{"text_format":"1","workbook":"xlsx","n_sheets":5,"sheets":["Survey Data","Mapping Data","Road Track Plot","Calculate ArcMap","Export"],"not_rendered":{"charts":2,"images":0,"macros":1,"external_links":0,"defined_names":0,"comments":0,"pivot_tables":0},"unopened":[{"sheet":"Road Track Plot","index":2,"reason":"not_a_worksheet"}],"bounds":{"document_bytes":16777216,"sheet_cells":100000,"rows_first":2000,"rows_last":500,"rows_between":2000,"halvings":0,"cell_chars":16384,"cell_head_chars":4096},"cells_cut":0,"cells_raw":0,"read":"whole","date_system":"1900"}

{"sheet":"Survey Data","index":0,"n_rows":218,"n_cols":8,"rows_kept":218,"cut":false,"hidden":false,"merged":[[154,7,154,8],[159,7,159,8],[160,7,160,8],[155,7,155,8],[156,7,156,8],[157,7,157,8],[158,7,158,8],[150,7,150,8],[151,7,151,8],[152,7,152,8],[153,7,153,8],[146,7,146,8],[147,7,147,8],[148,7,148,8],[149,7,149,8],[142,7,142,8],[143,7,143,8],[144,7,144,8],[145,7,145,8],[138,7,138,8],[139,7,139,8],[140,7,140,8],[141,7,141,8],[134,7,134,8],[135,7,135,8],[136,7,136,8],[137,7,137,8],[130,7,130,8],[131,7,131,8],[132,7,132,8],[133,7,133,8],[126,7,126,8],[127,7,127,8],[128,7,128,8],[129,7,129,8],[122,7,122,8],[123,7,123,8],[124,7,124,8],[125,7,125,8],[118,7,118,8],[119,7,119,8],[120,7,120,8],[121,7,121,8],[114,7,114,8],[115,7,115,8],[116,7,116,8],[117,7,117,8],[110,7,110,8],[111,7,111,8],[112,7,112,8],[113,7,113,8],[106,7,106,8],[107,7,107,8],[108,7,108,8],[109,7,109,8],[102,7,102,8],[103,7,103,8],[104,7,104,8],[105,7,105,8],[98,7,98,8],[99,7,99,8],[100,7,100,8],[101,7,101,8],[94,7,94,8],[95,7,95,8],[96,7,96,8],[97,7,97,8],[90,7,90,8],[91,7,91,8],[92,7,92,8],[93,7,93,8],[86,7,86,8],[87,7,87,8],[88,7,88,8],[89,7,89,8],[82,7,82,8],[83,7,83,8],[84,7,84,8],[85,7,85,8],[78,7,78,8],[79,7,79,8],[80,7,80,8],[81,7,81,8],[74,7,74,8],[75,7,75,8],[76,7,76,8],[77,7,77,8],[70,7,70,8],[71,7,71,8],[72,7,72,8],[73,7,73,8],[66,7,66,8],[67,7,67,8],[68,7,68,8],[69,7,69,8],[62,7,62,8],[63,7,63,8],[64,7,64,8],[65,7,65,8],[58,7,58,8],[59,7,59,8],[60,7,60,8],[61,7,61,8],[54,7,54,8],[55,7,55,8],[56,7,56,8],[57,7,57,8],[50,7,50,8],[51,7,51,8],[52,7,52,8],[53,7,53,8],[46,7,46,8],[47,7,47,8],[48,7,48,8],[49,7,49,8],[42,7,42,8],[43,7,43,8],[44,7,44,8],[45,7,45,8],[7,0,7,3],[37,7,37,8],[38,7,38,8],[39,7,39,8],[41,7,41,8],[13,4,13,8],[8,4,8,8],[15,6,15,8],[9,4,9,8],[14,0,14,8],[11,4,11,8],[9,0,9,3],[11,0,11,3],[10,0,10,3],[10,4,10,8],[16,1,16,3],[17,7,17,8],[16,7,16,8],[16,4,16,6],[12,4,12,8],[28,7,28,8],[31,7,31,8],[161,7,161,8],[26,7,26,8],[0,0,0,8],[27,7,27,8],[12,0,12,3],[13,0,13,3],[4,0,4,3],[5,0,5,3],[1,0,1,3],[2,0,2,3],[18,7,18,8],[3,0,3,3],[8,0,8,3],[1,4,1,6],[2,4,2,6],[40,7,40,8],[32,7,32,8],[35,7,35,8],[36,7,36,8],[15,0,15,5],[29,7,29,8],[6,0,6,3],[170,7,170,8],[3,4,3,6],[4,4,4,6],[5,4,5,6],[6,4,6,6],[7,4,7,6],[164,7,164,8],[165,7,165,8],[166,7,166,8],[167,7,167,8],[168,7,168,8],[169,7,169,8],[25,7,25,8],[23,7,23,8],[22,7,22,8],[21,7,21,8],[20,7,20,8],[19,7,19,8],[162,7,162,8],[163,7,163,8],[24,7,24,8],[33,7,33,8],[34,7,34,8],[30,7,30,8],[178,7,178,8],[179,7,179,8],[171,7,171,8],[172,7,172,8],[174,7,174,8],[175,7,175,8],[176,7,176,8],[189,7,189,8],[196,7,196,8],[173,7,173,8],[182,7,182,8],[177,7,177,8],[193,7,193,8],[186,7,186,8],[180,7,180,8],[181,7,181,8],[183,7,183,8],[184,7,184,8],[185,7,185,8],[187,7,187,8],[188,7,188,8],[201,7,201,8],[194,7,194,8],[195,7,195,8],[190,7,190,8],[191,7,191,8],[192,7,192,8],[198,7,198,8],[199,7,199,8],[200,7,200,8],[197,7,197,8],[217,7,217,8],[210,7,210,8],[211,7,211,8],[212,7,212,8],[213,7,213,8],[215,7,215,8],[216,7,216,8],[214,7,214,8],[202,7,202,8],[203,7,203,8],[204,7,204,8],[205,7,205,8],[206,7,206,8],[207,7,207,8],[208,7,208,8],[209,7,209,8]]}
["Hartland, Vermont Ancient Roads Project"]
["Information Copied By:",null,null,null,null,null,null,"Copy Date:"]
["Revised By:",null,null,null,null,null,null,"Revision Date:"]
["Sheet Number:",null,null,null,null,null,null,"Total Sheets:"]
["Volume Number:"]
["Page Number:"]
["Entry Number:"]
["Surveyor:",null,null,null,null,null,null,"Survey Date:"]
["Examined By:"]
["Recorded By:"]
["Approved By:"]
["Other Information:"]
["Brief Description:"]
["Description of Survey:\n\n(Please note prominently if this describes the discontinuance of the road.)"]
["Survey Data"]
["Beginning home, name, or landmark:"]
["Point ID","Compass ",null,null,"Distance",null,null,"Remarks"]
[null,"NS","angle","EW","chains","rods","links"]
[1]
[2]
[3]
[4]
[5]
[6]
[7]
[8]
[9]
[10]
[11]
[12]
[13]
[14]
[15]
[16]
[17]
[18]
[19]
[20]
[21]
[22]
[23]
[24]
[25]
[26]
[27]
[28]
[29]
[30]
[31]
[32]
[33]
[34]
[35]
[36]
[37]
[38]
[39]
[40]
[41]
[42]
[43]
[44]
[45]
[46]
[47]
[48]
[49]
[50]
[51]
[52]
[53]
[54]
[55]
[56]
[57]
[58]
[59]
[60]
[61]
[62]
[63]
[64]
[65]
[66]
[67]
[68]
[69]
[70]
[71]
[72]
[73]
[74]
[75]
[76]
[77]
[78]
[79]
[80]
[81]
[82]
[83]
[84]
[85]
[86]
[87]
[88]
[89]
[90]
[91]
[92]
[93]
[94]
[95]
[96]
[97]
[98]
[99]
[100]
[101]
[102]
[103]
[104]
[105]
[106]
[107]
[108]
[109]
[110]
[111]
[112]
[113]
[114]
[115]
[116]
[117]
[118]
[119]
[120]
[121]
[122]
[123]
[124]
[125]
[126]
[127]
[128]
[129]
[130]
[131]
[132]
[133]
[134]
[135]
[136]
[137]
[138]
[139]
[140]
[141]
[142]
[143]
[144]
[145]
[146]
[147]
[148]
[149]
[150]
[151]
[152]
[153]
[154]
[155]
[156]
[157]
[158]
[159]
[160]
[161]
[162]
[163]
[164]
[165]
[166]
[167]
[168]
[169]
[170]
[171]
[172]
[173]
[174]
[175]
[176]
[177]
[178]
[179]
[180]
[181]
[182]
[183]
[184]
[185]
[186]
[187]
[188]
[189]
[190]
[191]
[192]
[193]
[194]
[195]
[196]
[197]
[198]
[199]
[200]

{"sheet":"Mapping Data","index":1,"n_rows":209,"n_cols":18,"rows_kept":209,"cut":false,"hidden":false,"merged":[[0,1,0,3],[0,4,0,6],[0,16,0,17],[0,14,0,15]]}
[{"$f":"'Survey Data'!A17","v":"Point ID"},{"$f":"'Survey Data'!B17","v":"Compass "},null,null,{"$f":"'Survey Data'!E17","v":"Distance"},null,null,{"$f":"'Survey Data'!H17","v":"Remarks"},null,"Raw Angle","Declination","Corrected Angle","Cartesian Coordinate Angle","Distance","Rectangular Coordinates",null,"Cartesian Coordinates"]
[null,{"$f":"'Survey Data'!B18","v":"NS"},{"$f":"'Survey Data'!C18","v":"angle"},{"$f":"'Survey Data'!D18","v":"EW"},{"$f":"'Survey Data'!E18","v":"chains"},{"$f":"'Survey Data'!F18","v":"rods"},{"$f":"'Survey Data'!G18","v":"links"},null,null,"(Degrees)","(Degrees)","(Degrees Geographic North)",null,"(feet)","X-Axis","Y-Axis","X-Axis","Y-Axis"]
[null,null,null,null,null,null,null,null,null,null,0,null,null,null,null,null,0,0]
[{"$f":"'Survey Data'!A19","v":1},{"$f":"'Survey Data'!B19","v":0},{"$f":"'Survey Data'!C19","v":0},{"$f":"'Survey Data'!D19","v":0},{"$f":"'Survey Data'!E19","v":0},{"$f":"'Survey Data'!F19","v":0},{"$f":"'Survey Data'!G19","v":0},{"$f":"'Survey Data'!H19","v":0},null,{"$f":"SurveyBearing2Angle(B4,C4,D4)","v":-1},{"$f":"$K$3","v":0},{"$f":"J4+K4","v":-1},{"$f":"MOD(450-L4,360)","v":91},{"$f":"(E4*4*16.5)+(F4*16.5)+(G4*16.5/25)","v":0},{"$f":"COS(RADIANS(M4))*N4","v":0},{"$f":"SIN(RADIANS(M4))*N4","v":0},{"$f":"Q3+O4","v":0},{"$f":"R3+P4","v":0}]
[{"$f":"'Survey Data'!A20","v":2},{"$f":"'Survey Data'!B20","v":0},{"$f":"'Survey Data'!C20","v":0},{"$f":"'Survey Data'!D20","v":0},{"$f":"'Survey Data'!E20","v":0},{"$f":"'Survey Data'!F20","v":0},{"$f":"'Survey Data'!G20","v":0},{"$f":"'Survey Data'!H20","v":0},null,{"$f":"SurveyBearing2Angle(B5,C5,D5)","v":-1},{"$f":"$K$3","v":0},{"$f":"J5+K5","v":-1},{"$f":"MOD(450-L5,360)","v":91},{"$f":"(E5*4*16.5)+(F5*16.5)+(G5*16.5/25)","v":0},{"$f":"COS(RADIANS(M5))*N5","v":0},{"$f":"SIN(RADIANS(M5))*N5","v":0},{"$f":"Q4+O5","v":0},{"$f":"R4+P5","v":0}]
[{"$f":"'Survey Data'!A21","v":3},{"$f":"'Survey Data'!B21","v":0},{"$f":"'Survey Data'!C21","v":0},{"$f":"'Survey Data'!D21","v":0},{"$f":"'Survey Data'!E21","v":0},{"$f":"'Survey Data'!F21","v":0},{"$f":"'Survey Data'!G21","v":0},{"$f":"'Survey Data'!H21","v":0},null,-1,0,-1,91,0,0,0,0,0]
[{"$f":"'Survey Data'!A22","v":4},{"$f":"'Survey Data'!B22","v":0},{"$f":"'Survey Data'!C22","v":0},{"$f":"'Survey Data'!D22","v":0},{"$f":"'Survey Data'!E22","v":0},{"$f":"'Survey Data'!F22","v":0},{"$f":"'Survey Data'!G22","v":0},{"$f":"'Survey Data'!H22","v":0},null,-1,0,-1,91,0,0,0,0,0]
[{"$f":"'Survey Data'!A23","v":5},{"$f":"'Survey Data'!B23","v":0},{"$f":"'Survey Data'!C23","v":0},{"$f":"'Survey Data'!D23","v":0},{"$f":"'Survey Data'!E23","v":0},{"$f":"'Survey Data'!F23","v":0},{"$f":"'Survey Data'!G23","v":0},{"$f":"'Survey Data'!H23","v":0},null,-1,0,-1,91,0,0,0,0,0]
[{"$f":"'Survey Data'!A24","v":6},{"$f":"'Survey Data'!B24","v":0},{"$f":"'Survey Data'!C24","v":0},{"$f":"'Survey Data'!D24","v":0},{"$f":"'Survey Data'!E24","v":0},{"$f":"'Survey Data'!F24","v":0},{"$f":"'Survey Data'!G24","v":0},{"$f":"'Survey Data'!H24","v":0},null,-1,0,-1,91,0,0,0,0,0]
[{"$f":"'Survey Data'!A25","v":7},{"$f":"'Survey Data'!B25","v":0},{"$f":"'Survey Data'!C25","v":0},{"$f":"'Survey Data'!D25","v":0},{"$f":"'Survey Data'!E25","v":0},{"$f":"'Survey Data'!F25","v":0},{"$f":"'Survey Data'!G25","v":0},{"$f":"'Survey Data'!H25","v":0},null,-1,0,-1,91,0,0,0,0,0]
[{"$f":"'Survey Data'!A26","v":8},{"$f":"'Survey Data'!B26","v":0},{"$f":"'Survey Data'!C26","v":0},{"$f":"'Survey Data'!D26","v":0},{"$f":"'Survey Data'!E26","v":0},{"$f":"'Survey Data'!F26","v":0},{"$f":"'Survey Data'!G26","v":0},{"$f":"'Survey Data'!H26","v":0},null,-1,0,-1,91,0,0,0,0,0]
[{"$f":"'Survey Data'!A27","v":9},{"$f":"'Survey Data'!B27","v":0},{"$f":"'Survey Data'!C27","v":0},{"$f":"'Survey Data'!D27","v":0},{"$f":"'Survey Data'!E27","v":0},{"$f":"'Survey Data'!F27","v":0},{"$f":"'Survey Data'!G27","v":0},{"$f":"'Survey Data'!H27","v":0},null,-1,0,-1,91,0,0,0,0,0]
[{"$f":"'Survey Data'!A28","v":10},{"$f":"'Survey Data'!B28","v":0},{"$f":"'Survey Data'!C28","v":0},{"$f":"'Survey Data'!D28","v":0},{"$f":"'Survey Data'!E28","v":0},{"$f":"'Survey Data'!F28","v":0},{"$f":"'Survey Data'!G28","v":0},{"$f":"'Survey Data'!H28","v":0},null,-1,0,-1,91,0,0,0,0,0]
[{"$f":"'Survey Data'!A29","v":11},{"$f":"'Survey Data'!B29","v":0},{"$f":"'Survey Data'!C29","v":0},{"$f":"'Survey Data'!D29","v":0},{"$f":"'Survey Data'!E29","v":0},{"$f":"'Survey Data'!F29","v":0},{"$f":"'Survey Data'!G29","v":0},{"$f":"'Survey Data'!H29","v":0},null,-1,0,-1,91,0,0,0,0,0]
[{"$f":"'Survey Data'!A30","v":12},{"$f":"'Survey Data'!B30","v":0},{"$f":"'Survey Data'!C30","v":0},{"$f":"'Survey Data'!D30","v":0},{"$f":"'Survey Data'!E30","v":0},{"$f":"'Survey Data'!F30","v":0},{"$f":"'Survey Data'!G30","v":0},{"$f":"'Survey Data'!H30","v":0},null,-1,0,-1,91,0,0,0,0,0]
[{"$f":"'Survey Data'!A31","v":13},{"$f":"'Survey Data'!B31","v":0},{"$f":"'Survey Data'!C31","v":0},{"$f":"'Survey Data'!D31","v":0},{"$f":"'Survey Data'!E31","v":0},{"$f":"'Survey Data'!F31","v":0},{"$f":"'Survey Data'!G31","v":0},{"$f":"'Survey Data'!H31","v":0},null,-1,0,-1,91,0,0,0,0,0]
[{"$f":"'Survey Data'!A32","v":14},{"$f":"'Survey Data'!B32","v":0},{"$f":"'Survey Data'!C32","v":0},{"$f":"'Survey Data'!D32","v":0},{"$f":"'Survey Data'!E32","v":0},{"$f":"'Survey Data'!F32","v":0},{"$f":"'Survey Data'!G32","v":0},{"$f":"'Survey Data'!H32","v":0},null,-1,0,-1,91,0,0,0,0,0]
[{"$f":"'Survey Data'!A33","v":15},{"$f":"'Survey Data'!B33","v":0},{"$f":"'Survey Data'!C33","v":0},{"$f":"'Survey Data'!D33","v":0},{"$f":"'Survey Data'!E33","v":0},{"$f":"'Survey Data'!F33","v":0},{"$f":"'Survey Data'!G33","v":0},{"$f":"'Survey Data'!H33","v":0},null,-1,0,-1,91,0,0,0,0,0]
[{"$f":"'Survey Data'!A34","v":16},{"$f":"'Survey Data'!B34","v":0},{"$f":"'Survey Data'!C34","v":0},{"$f":"'Survey Data'!D34","v":0},{"$f":"'Survey Data'!E34","v":0},{"$f":"'Survey Data'!F34","v":0},{"$f":"'Survey Data'!G34","v":0},{"$f":"'Survey Data'!H34","v":0},null,-1,0,-1,91,0,0,0,0,0]
[{"$f":"'Survey Data'!A35","v":17},{"$f":"'Survey Data'!B35","v":0},{"$f":"'Survey Data'!C35","v":0},{"$f":"'Survey Data'!D35","v":0},{"$f":"'Survey Data'!E35","v":0},{"$f":"'Survey Data'!F35","v":0},{"$f":"'Survey Data'!G35","v":0},{"$f":"'Survey Data'!H35","v":0},null,-1,0,-1,91,0,0,0,0,0]
[{"$f":"'Survey Data'!A36","v":18},{"$f":"'Survey Data'!B36","v":0},{"$f":"'Survey Data'!C36","v":0},{"$f":"'Survey Data'!D36","v":0},{"$f":"'Survey Data'!E36","v":0},{"$f":"'Survey Data'!F36","v":0},{"$f":"'Survey Data'!G36","v":0},{"$f":"'Survey Data'!H36","v":0},null,-1,0,-1,91,0,0,0,0,0]
[{"$f":"'Survey Data'!A37","v":19},{"$f":"'Survey Data'!B37","v":0},{"$f":"'Survey Data'!C37","v":0},{"$f":"'Survey Data'!D37","v":0},{"$f":"'Survey Data'!E37","v":0},{"$f":"'Survey Data'!F37","v":0},{"$f":"'Survey Data'!G37","v":0},{"$f":"'Survey Data'!H37","v":0},null,-1,0,-1,91,0,0,0,0,0]
[{"$f":"'Survey Data'!A38","v":20},{"$f":"'Survey Data'!B38","v":0},{"$f":"'Survey Data'!C38","v":0},{"$f":"'Survey Data'!D38","v":0},{"$f":"'Survey Data'!E38","v":0},{"$f":"'Survey Data'!F38","v":0},{"$f":"'Survey Data'!G38","v":0},{"$f":"'Survey Data'!H38","v":0},null,-1,0,-1,91,0,0,0,0,0]
[{"$f":"'Survey Data'!A39","v":21},{"$f":"'Survey Data'!B39","v":0},{"$f":"'Survey Data'!C39","v":0},{"$f":"'Survey Data'!D39","v":0},{"$f":"'Survey Data'!E39","v":0},{"$f":"'Survey Data'!F39","v":0},{"$f":"'Survey Data'!G39","v":0},{"$f":"'Survey Data'!H39","v":0},null,-1,0,-1,91,0,0,0,0,0]
[{"$f":"'Survey Data'!A40","v":22},{"$f":"'Survey Data'!B40","v":0},{"$f":"'Survey Data'!C40","v":0},{"$f":"'Survey Data'!D40","v":0},{"$f":"'Survey Data'!E40","v":0},{"$f":"'Survey Data'!F40","v":0},{"$f":"'Survey Data'!G40","v":0},{"$f":"'Survey Data'!H40","v":0},null,-1,0,-1,91,0,0,0,0,0]
[{"$f":"'Survey Data'!A41","v":23},{"$f":"'Survey Data'!B41","v":0},{"$f":"'Survey Data'!C41","v":0},{"$f":"'Survey Data'!D41","v":0},{"$f":"'Survey Data'!E41","v":0},{"$f":"'Survey Data'!F41","v":0},{"$f":"'Survey Data'!G41","v":0},{"$f":"'Survey Data'!H41","v":0},null,-1,0,-1,91,0,0,0,0,0]
[{"$f":"'Survey Data'!A42","v":24},{"$f":"'Survey Data'!B42","v":0},{"$f":"'Survey Data'!C42","v":0},{"$f":"'Survey Data'!D42","v":0},{"$f":"'Survey Data'!E42","v":0},{"$f":"'Survey Data'!F42","v":0},{"$f":"'Survey Data'!G42","v":0},{"$f":"'Survey Data'!H42","v":0},null,-1,0,-1,91,0,0,0,0,0]
[{"$f":"'Survey Data'!A43","v":25},{"$f":"'Survey Data'!B43","v":0},{"$f":"'Survey Data'!C43","v":0},{"$f":"'Survey Data'!D43","v":0},{"$f":"'Survey Data'!E43","v":0},{"$f":"'Survey Data'!F43","v":0},{"$f":"'Survey Data'!G43","v":0},{"$f":"'Survey Data'!H43","v":0},null,-1,0,-1,91,0,0,0,0,0]
[{"$f":"'Survey Data'!A44","v":26},{"$f":"'Survey Data'!B44","v":0},{"$f":"'Survey Data'!C44","v":0},{"$f":"'Survey Data'!D44","v":0},{"$f":"'Survey Data'!E44","v":0},{"$f":"'Survey Data'!F44","v":0},{"$f":"'Survey Data'!G44","v":0},{"$f":"'Survey Data'!H44","v":0},null,-1,0,-1,91,0,0,0,0,0]
[{"$f":"'Survey Data'!A45","v":27},{"$f":"'Survey Data'!B45","v":0},{"$f":"'Survey Data'!C45","v":0},{"$f":"'Survey Data'!D45","v":0},{"$f":"'Survey Data'!E45","v":0},{"$f":"'Survey Data'!F45","v":0},{"$f":"'Survey Data'!G45","v":0},{"$f":"'Survey Data'!H45","v":0},null,-1,0,-1,91,0,0,0,0,0]
[{"$f":"'Survey Data'!A46","v":28},{"$f":"'Survey Data'!B46","v":0},{"$f":"'Survey Data'!C46","v":0},{"$f":"'Survey Data'!D46","v":0},{"$f":"'Survey Data'!E46","v":0},{"$f":"'Survey Data'!F46","v":0},{"$f":"'Survey Data'!G46","v":0},{"$f":"'Survey Data'!H46","v":0},null,-1,0,-1,91,0,0,0,0,0]
[{"$f":"'Survey Data'!A47","v":29},{"$f":"'Survey Data'!B47","v":0},{"$f":"'Survey Data'!C47","v":0},{"$f":"'Survey Data'!D47","v":0},{"$f":"'Survey Data'!E47","v":0},{"$f":"'Survey Data'!F47","v":0},{"$f":"'Survey Data'!G47","v":0},{"$f":"'Survey Data'!H47","v":0},null,-1,0,-1,91,0,0,0,0,0]
[{"$f":"'Survey Data'!A48","v":30},{"$f":"'Survey Data'!B48","v":0},{"$f":"'Survey Data'!C48","v":0},{"$f":"'Survey Data'!D48","v":0},{"$f":"'Survey Data'!E48","v":0},{"$f":"'Survey Data'!F48","v":0},{"$f":"'Survey Data'!G48","v":0},{"$f":"'Survey Data'!H48","v":0},null,-1,0,-1,91,0,0,0,0,0]
[{"$f":"'Survey Data'!A49","v":31},{"$f":"'Survey Data'!B49","v":0},{"$f":"'Survey Data'!C49","v":0},{"$f":"'Survey Data'!D49","v":0},{"$f":"'Survey Data'!E49","v":0},{"$f":"'Survey Data'!F49","v":0},{"$f":"'Survey Data'!G49","v":0},{"$f":"'Survey Data'!H49","v":0},null,-1,0,-1,91,0,0,0,0,0]
[{"$f":"'Survey Data'!A50","v":32},{"$f":"'Survey Data'!B50","v":0},{"$f":"'Survey Data'!C50","v":0},{"$f":"'Survey Data'!D50","v":0},{"$f":"'Survey Data'!E50","v":0},{"$f":"'Survey Data'!F50","v":0},{"$f":"'Survey Data'!G50","v":0},{"$f":"'Survey Data'!H50","v":0},null,-1,0,-1,91,0,0,0,0,0]
[{"$f":"'Survey Data'!A51","v":33},{"$f":"'Survey Data'!B51","v":0},{"$f":"'Survey Data'!C51","v":0},{"$f":"'Survey Data'!D51","v":0},{"$f":"'Survey Data'!E51","v":0},{"$f":"'Survey Data'!F51","v":0},{"$f":"'Survey Data'!G51","v":0},{"$f":"'Survey Data'!H51","v":0},null,-1,0,-1,91,0,0,0,0,0]
[{"$f":"'Survey Data'!A52","v":34},{"$f":"'Survey Data'!B52","v":0},{"$f":"'Survey Data'!C52","v":0},{"$f":"'Survey Data'!D52","v":0},{"$f":"'Survey Data'!E52","v":0},{"$f":"'Survey Data'!F52","v":0},{"$f":"'Survey Data'!G52","v":0},{"$f":"'Survey Data'!H52","v":0},null,-1,0,-1,91,0,0,0,0,0]
[{"$f":"'Survey Data'!A53","v":35},{"$f":"'Survey Data'!B53","v":0},{"$f":"'Survey Data'!C53","v":0},{"$f":"'Survey Data'!D53","v":0},{"$f":"'Survey Data'!E53","v":0},{"$f":"'Survey Data'!F53","v":0},{"$f":"'Survey Data'!G53","v":0},{"$f":"'Survey Data'!H53","v":0},null,-1,0,-1,91,0,0,0,0,0]
[{"$f":"'Survey Data'!A54","v":36},{"$f":"'Survey Data'!B54","v":0},{"$f":"'Survey Data'!C54","v":0},{"$f":"'Survey Data'!D54","v":0},{"$f":"'Survey Data'!E54","v":0},{"$f":"'Survey Data'!F54","v":0},{"$f":"'Survey Data'!G54","v":0},{"$f":"'Survey Data'!H54","v":0},null,-1,0,-1,91,0,0,0,0,0]
[{"$f":"'Survey Data'!A55","v":37},{"$f":"'Survey Data'!B55","v":0},{"$f":"'Survey Data'!C55","v":0},{"$f":"'Survey Data'!D55","v":0},{"$f":"'Survey Data'!E55","v":0},{"$f":"'Survey Data'!F55","v":0},{"$f":"'Survey Data'!G55","v":0},{"$f":"'Survey Data'!H55","v":0},null,-1,0,-1,91,0,0,0,0,0]
[{"$f":"'Survey Data'!A56","v":38},{"$f":"'Survey Data'!B56","v":0},{"$f":"'Survey Data'!C56","v":0},{"$f":"'Survey Data'!D56","v":0},{"$f":"'Survey Data'!E56","v":0},{"$f":"'Survey Data'!F56","v":0},{"$f":"'Survey Data'!G56","v":0},{"$f":"'Survey Data'!H56","v":0},null,-1,0,-1,91,0,0,0,0,0]
[{"$f":"'Survey Data'!A57","v":39},{"$f":"'Survey Data'!B57","v":0},{"$f":"'Survey Data'!C57","v":0},{"$f":"'Survey Data'!D57","v":0},{"$f":"'Survey Data'!E57","v":0},{"$f":"'Survey Data'!F57","v":0},{"$f":"'Survey Data'!G57","v":0},{"$f":"'Survey Data'!H57","v":0},null,-1,0,-1,91,0,0,0,0,0]
[{"$f":"'Survey Data'!A58","v":40},{"$f":"'Survey Data'!B58","v":0},{"$f":"'Survey Data'!C58","v":0},{"$f":"'Survey Data'!D58","v":0},{"$f":"'Survey Data'!E58","v":0},{"$f":"'Survey Data'!F58","v":0},{"$f":"'Survey Data'!G58","v":0},{"$f":"'Survey Data'!H58","v":0},null,-1,0,-1,91,0,0,0,0,0]
[{"$f":"'Survey Data'!A59","v":41},{"$f":"'Survey Data'!B59","v":0},{"$f":"'Survey Data'!C59","v":0},{"$f":"'Survey Data'!D59","v":0},{"$f":"'Survey Data'!E59","v":0},{"$f":"'Survey Data'!F59","v":0},{"$f":"'Survey Data'!G59","v":0},{"$f":"'Survey Data'!H59","v":0},null,-1,0,-1,91,0,0,0,0,0]
[{"$f":"'Survey Data'!A60","v":42},{"$f":"'Survey Data'!B60","v":0},{"$f":"'Survey Data'!C60","v":0},{"$f":"'Survey Data'!D60","v":0},{"$f":"'Survey Data'!E60","v":0},{"$f":"'Survey Data'!F60","v":0},{"$f":"'Survey Data'!G60","v":0},{"$f":"'Survey Data'!H60","v":0},null,-1,0,-1,91,0,0,0,0,0]
[{"$f":"'Survey Data'!A61","v":43},{"$f":"'Survey Data'!B61","v":0},{"$f":"'Survey Data'!C61","v":0},{"$f":"'Survey Data'!D61","v":0},{"$f":"'Survey Data'!E61","v":0},{"$f":"'Survey Data'!F61","v":0},{"$f":"'Survey Data'!G61","v":0},{"$f":"'Survey Data'!H61","v":0},null,-1,0,-1,91,0,0,0,0,0]
[{"$f":"'Survey Data'!A62","v":44},{"$f":"'Survey Data'!B62","v":0},{"$f":"'Survey Data'!C62","v":0},{"$f":"'Survey Data'!D62","v":0},{"$f":"'Survey Data'!E62","v":0},{"$f":"'Survey Data'!F62","v":0},{"$f":"'Survey Data'!G62","v":0},{"$f":"'Survey Data'!H62","v":0},null,-1,0,-1,91,0,0,0,0,0]
[{"$f":"'Survey Data'!A63","v":45},{"$f":"'Survey Data'!B63","v":0},{"$f":"'Survey Data'!C63","v":0},{"$f":"'Survey Data'!D63","v":0},{"$f":"'Survey Data'!E63","v":0},{"$f":"'Survey Data'!F63","v":0},{"$f":"'Survey Data'!G63","v":0},{"$f":"'Survey Data'!H63","v":0},null,-1,0,-1,91,0,0,0,0,0]
[{"$f":"'Survey Data'!A64","v":46},{"$f":"'Survey Data'!B64","v":0},{"$f":"'Survey Data'!C64","v":0},{"$f":"'Survey Data'!D64","v":0},{"$f":"'Survey Data'!E64","v":0},{"$f":"'Survey Data'!F64","v":0},{"$f":"'Survey Data'!G64","v":0},{"$f":"'Survey Data'!H64","v":0},null,-1,0,-1,91,0,0,0,0,0]
[{"$f":"'Survey Data'!A65","v":47},{"$f":"'Survey Data'!B65","v":0},{"$f":"'Survey Data'!C65","v":0},{"$f":"'Survey Data'!D65","v":0},{"$f":"'Survey Data'!E65","v":0},{"$f":"'Survey Data'!F65","v":0},{"$f":"'Survey Data'!G65","v":0},{"$f":"'Survey Data'!H65","v":0},null,-1,0,-1,91,0,0,0,0,0]
[{"$f":"'Survey Data'!A66","v":48},{"$f":"'Survey Data'!B66","v":0},{"$f":"'Survey Data'!C66","v":0},{"$f":"'Survey Data'!D66","v":0},{"$f":"'Survey Data'!E66","v":0},{"$f":"'Survey Data'!F66","v":0},{"$f":"'Survey Data'!G66","v":0},{"$f":"'Survey Data'!H66","v":0},null,-1,0,-1,91,0,0,0,0,0]
[{"$f":"'Survey Data'!A67","v":49},{"$f":"'Survey Data'!B67","v":0},{"$f":"'Survey Data'!C67","v":0},{"$f":"'Survey Data'!D67","v":0},{"$f":"'Survey Data'!E67","v":0},{"$f":"'Survey Data'!F67","v":0},{"$f":"'Survey Data'!G67","v":0},{"$f":"'Survey Data'!H67","v":0},null,-1,0,-1,91,0,0,0,0,0]
[{"$f":"'Survey Data'!A68","v":50},{"$f":"'Survey Data'!B68","v":0},{"$f":"'Survey Data'!C68","v":0},{"$f":"'Survey Data'!D68","v":0},{"$f":"'Survey Data'!E68","v":0},{"$f":"'Survey Data'!F68","v":0},{"$f":"'Survey Data'!G68","v":0},{"$f":"'Survey Data'!H68","v":0},null,-1,0,-1,91,0,0,0,0,0]
[{"$f":"'Survey Data'!A69","v":51},{"$f":"'Survey Data'!B69","v":0},{"$f":"'Survey Data'!C69","v":0},{"$f":"'Survey Data'!D69","v":0},{"$f":"'Survey Data'!E69","v":0},{"$f":"'Survey Data'!F69","v":0},{"$f":"'Survey Data'!G69","v":0},{"$f":"'Survey Data'!H69","v":0},null,-1,0,-1,91,0,0,0,0,0]
[{"$f":"'Survey Data'!A70","v":52},{"$f":"'Survey Data'!B70","v":0},{"$f":"'Survey Data'!C70","v":0},{"$f":"'Survey Data'!D70","v":0},{"$f":"'Survey Data'!E70","v":0},{"$f":"'Survey Data'!F70","v":0},{"$f":"'Survey Data'!G70","v":0},{"$f":"'Survey Data'!H70","v":0},null,-1,0,-1,91,0,0,0,0,0]
[{"$f":"'Survey Data'!A71","v":53},{"$f":"'Survey Data'!B71","v":0},{"$f":"'Survey Data'!C71","v":0},{"$f":"'Survey Data'!D71","v":0},{"$f":"'Survey Data'!E71","v":0},{"$f":"'Survey Data'!F71","v":0},{"$f":"'Survey Data'!G71","v":0},{"$f":"'Survey Data'!H71","v":0},null,-1,0,-1,91,0,0,0,0,0]
[{"$f":"'Survey Data'!A72","v":54},{"$f":"'Survey Data'!B72","v":0},{"$f":"'Survey Data'!C72","v":0},{"$f":"'Survey Data'!D72","v":0},{"$f":"'Survey Data'!E72","v":0},{"$f":"'Survey Data'!F72","v":0},{"$f":"'Survey Data'!G72","v":0},{"$f":"'Survey Data'!H72","v":0},null,-1,0,-1,91,0,0,0,0,0]
[{"$f":"'Survey Data'!A73","v":55},{"$f":"'Survey Data'!B73","v":0},{"$f":"'Survey Data'!C73","v":0},{"$f":"'Survey Data'!D73","v":0},{"$f":"'Survey Data'!E73","v":0},{"$f":"'Survey Data'!F73","v":0},{"$f":"'Survey Data'!G73","v":0},{"$f":"'Survey Data'!H73","v":0},null,-1,0,-1,91,0,0,0,0,0]
[{"$f":"'Survey Data'!A74","v":56},{"$f":"'Survey Data'!B74","v":0},{"$f":"'Survey Data'!C74","v":0},{"$f":"'Survey Data'!D74","v":0},{"$f":"'Survey Data'!E74","v":0},{"$f":"'Survey Data'!F74","v":0},{"$f":"'Survey Data'!G74","v":0},{"$f":"'Survey Data'!H74","v":0},null,-1,0,-1,91,0,0,0,0,0]
[{"$f":"'Survey Data'!A75","v":57},{"$f":"'Survey Data'!B75","v":0},{"$f":"'Survey Data'!C75","v":0},{"$f":"'Survey Data'!D75","v":0},{"$f":"'Survey Data'!E75","v":0},{"$f":"'Survey Data'!F75","v":0},{"$f":"'Survey Data'!G75","v":0},{"$f":"'Survey Data'!H75","v":0},null,-1,0,-1,91,0,0,0,0,0]
[{"$f":"'Survey Data'!A76","v":58},{"$f":"'Survey Data'!B76","v":0},{"$f":"'Survey Data'!C76","v":0},{"$f":"'Survey Data'!D76","v":0},{"$f":"'Survey Data'!E76","v":0},{"$f":"'Survey Data'!F76","v":0},{"$f":"'Survey Data'!G76","v":0},{"$f":"'Survey Data'!H76","v":0},null,-1,0,-1,91,0,0,0,0,0]
[{"$f":"'Survey Data'!A77","v":59},{"$f":"'Survey Data'!B77","v":0},{"$f":"'Survey Data'!C77","v":0},{"$f":"'Survey Data'!D77","v":0},{"$f":"'Survey Data'!E77","v":0},{"$f":"'Survey Data'!F77","v":0},{"$f":"'Survey Data'!G77","v":0},{"$f":"'Survey Data'!H77","v":0},null,-1,0,-1,91,0,0,0,0,0]
[{"$f":"'Survey Data'!A78","v":60},{"$f":"'Survey Data'!B78","v":0},{"$f":"'Survey Data'!C78","v":0},{"$f":"'Survey Data'!D78","v":0},{"$f":"'Survey Data'!E78","v":0},{"$f":"'Survey Data'!F78","v":0},{"$f":"'Survey Data'!G78","v":0},{"$f":"'Survey Data'!H78","v":0},null,-1,0,-1,91,0,0,0,0,0]
[{"$f":"'Survey Data'!A79","v":61},{"$f":"'Survey Data'!B79","v":0},{"$f":"'Survey Data'!C79","v":0},{"$f":"'Survey Data'!D79","v":0},{"$f":"'Survey Data'!E79","v":0},{"$f":"'Survey Data'!F79","v":0},{"$f":"'Survey Data'!G79","v":0},{"$f":"'Survey Data'!H79","v":0},null,-1,0,-1,91,0,0,0,0,0]
[{"$f":"'Survey Data'!A80","v":62},{"$f":"'Survey Data'!B80","v":0},{"$f":"'Survey Data'!C80","v":0},{"$f":"'Survey Data'!D80","v":0},{"$f":"'Survey Data'!E80","v":0},{"$f":"'Survey Data'!F80","v":0},{"$f":"'Survey Data'!G80","v":0},{"$f":"'Survey Data'!H80","v":0},null,-1,0,-1,91,0,0,0,0,0]
[{"$f":"'Survey Data'!A81","v":63},{"$f":"'Survey Data'!B81","v":0},{"$f":"'Survey Data'!C81","v":0},{"$f":"'Survey Data'!D81","v":0},{"$f":"'Survey Data'!E81","v":0},{"$f":"'Survey Data'!F81","v":0},{"$f":"'Survey Data'!G81","v":0},{"$f":"'Survey Data'!H81","v":0},null,-1,0,-1,91,0,0,0,0,0]
[{"$f":"'Survey Data'!A82","v":64},{"$f":"'Survey Data'!B82","v":0},{"$f":"'Survey Data'!C82","v":0},{"$f":"'Survey Data'!D82","v":0},{"$f":"'Survey Data'!E82","v":0},{"$f":"'Survey Data'!F82","v":0},{"$f":"'Survey Data'!G82","v":0},{"$f":"'Survey Data'!H82","v":0},null,-1,0,-1,91,0,0,0,0,0]
[{"$f":"'Survey Data'!A83","v":65},{"$f":"'Survey Data'!B83","v":0},{"$f":"'Survey Data'!C83","v":0},{"$f":"'Survey Data'!D83","v":0},{"$f":"'Survey Data'!E83","v":0},{"$f":"'Survey Data'!F83","v":0},{"$f":"'Survey Data'!G83","v":0},{"$f":"'Survey Data'!H83","v":0},null,-1,0,-1,91,0,0,0,0,0]
[{"$f":"'Survey Data'!A84","v":66},{"$f":"'Survey Data'!B84","v":0},{"$f":"'Survey Data'!C84","v":0},{"$f":"'Survey Data'!D84","v":0},{"$f":"'Survey Data'!E84","v":0},{"$f":"'Survey Data'!F84","v":0},{"$f":"'Survey Data'!G84","v":0},{"$f":"'Survey Data'!H84","v":0},null,{"$f":"SurveyBearing2Angle(B69,C69,D69)","v":-1},{"$f":"$K$3","v":0},{"$f":"J69+K69","v":-1},{"$f":"MOD(450-L69,360)","v":91},{"$f":"(E69*4*16.5)+(F69*16.5)+(G69*16.5/25)","v":0},{"$f":"COS(RADIANS(M69))*N69","v":0},{"$f":"SIN(RADIANS(M69))*N69","v":0},{"$f":"Q68+O69","v":0},{"$f":"R68+P69","v":0}]
[{"$f":"'Survey Data'!A85","v":67},{"$f":"'Survey Data'!B85","v":0},{"$f":"'Survey Data'!C85","v":0},{"$f":"'Survey Data'!D85","v":0},{"$f":"'Survey Data'!E85","v":0},{"$f":"'Survey Data'!F85","v":0},{"$f":"'Survey Data'!G85","v":0},{"$f":"'Survey Data'!H85","v":0},null,-1,0,-1,91,0,0,0,0,0]
[{"$f":"'Survey Data'!A86","v":68},{"$f":"'Survey Data'!B86","v":0},{"$f":"'Survey Data'!C86","v":0},{"$f":"'Survey Data'!D86","v":0},{"$f":"'Survey Data'!E86","v":0},{"$f":"'Survey Data'!F86","v":0},{"$f":"'Survey Data'!G86","v":0},{"$f":"'Survey Data'!H86","v":0},null,-1,0,-1,91,0,0,0,0,0]
[{"$f":"'Survey Data'!A87","v":69},{"$f":"'Survey Data'!B87","v":0},{"$f":"'Survey Data'!C87","v":0},{"$f":"'Survey Data'!D87","v":0},{"$f":"'Survey Data'!E87","v":0},{"$f":"'Survey Data'!F87","v":0},{"$f":"'Survey Data'!G87","v":0},{"$f":"'Survey Data'!H87","v":0},null,-1,0,-1,91,0,0,0,0,0]
[{"$f":"'Survey Data'!A88","v":70},{"$f":"'Survey Data'!B88","v":0},{"$f":"'Survey Data'!C88","v":0},{"$f":"'Survey Data'!D88","v":0},{"$f":"'Survey Data'!E88","v":0},{"$f":"'Survey Data'!F88","v":0},{"$f":"'Survey Data'!G88","v":0},{"$f":"'Survey Data'!H88","v":0},null,-1,0,-1,91,0,0,0,0,0]
[{"$f":"'Survey Data'!A89","v":71},{"$f":"'Survey Data'!B89","v":0},{"$f":"'Survey Data'!C89","v":0},{"$f":"'Survey Data'!D89","v":0},{"$f":"'Survey Data'!E89","v":0},{"$f":"'Survey Data'!F89","v":0},{"$f":"'Survey Data'!G89","v":0},{"$f":"'Survey Data'!H89","v":0},null,-1,0,-1,91,0,0,0,0,0]
[{"$f":"'Survey Data'!A90","v":72},{"$f":"'Survey Data'!B90","v":0},{"$f":"'Survey Data'!C90","v":0},{"$f":"'Survey Data'!D90","v":0},{"$f":"'Survey Data'!E90","v":0},{"$f":"'Survey Data'!F90","v":0},{"$f":"'Survey Data'!G90","v":0},{"$f":"'Survey Data'!H90","v":0},null,-1,0,-1,91,0,0,0,0,0]
[{"$f":"'Survey Data'!A91","v":73},{"$f":"'Survey Data'!B91","v":0},{"$f":"'Survey Data'!C91","v":0},{"$f":"'Survey Data'!D91","v":0},{"$f":"'Survey Data'!E91","v":0},{"$f":"'Survey Data'!F91","v":0},{"$f":"'Survey Data'!G91","v":0},{"$f":"'Survey Data'!H91","v":0},null,-1,0,-1,91,0,0,0,0,0]
[{"$f":"'Survey Data'!A92","v":74},{"$f":"'Survey Data'!B92","v":0},{"$f":"'Survey Data'!C92","v":0},{"$f":"'Survey Data'!D92","v":0},{"$f":"'Survey Data'!E92","v":0},{"$f":"'Survey Data'!F92","v":0},{"$f":"'Survey Data'!G92","v":0},{"$f":"'Survey Data'!H92","v":0},null,-1,0,-1,91,0,0,0,0,0]
[{"$f":"'Survey Data'!A93","v":75},{"$f":"'Survey Data'!B93","v":0},{"$f":"'Survey Data'!C93","v":0},{"$f":"'Survey Data'!D93","v":0},{"$f":"'Survey Data'!E93","v":0},{"$f":"'Survey Data'!F93","v":0},{"$f":"'Survey Data'!G93","v":0},{"$f":"'Survey Data'!H93","v":0},null,-1,0,-1,91,0,0,0,0,0]
[{"$f":"'Survey Data'!A94","v":76},{"$f":"'Survey Data'!B94","v":0},{"$f":"'Survey Data'!C94","v":0},{"$f":"'Survey Data'!D94","v":0},{"$f":"'Survey Data'!E94","v":0},{"$f":"'Survey Data'!F94","v":0},{"$f":"'Survey Data'!G94","v":0},{"$f":"'Survey Data'!H94","v":0},null,-1,0,-1,91,0,0,0,0,0]
[{"$f":"'Survey Data'!A95","v":77},{"$f":"'Survey Data'!B95","v":0},{"$f":"'Survey Data'!C95","v":0},{"$f":"'Survey Data'!D95","v":0},{"$f":"'Survey Data'!E95","v":0},{"$f":"'Survey Data'!F95","v":0},{"$f":"'Survey Data'!G95","v":0},{"$f":"'Survey Data'!H95","v":0},null,-1,0,-1,91,0,0,0,0,0]
[{"$f":"'Survey Data'!A96","v":78},{"$f":"'Survey Data'!B96","v":0},{"$f":"'Survey Data'!C96","v":0},{"$f":"'Survey Data'!D96","v":0},{"$f":"'Survey Data'!E96","v":0},{"$f":"'Survey Data'!F96","v":0},{"$f":"'Survey Data'!G96","v":0},{"$f":"'Survey Data'!H96","v":0},null,-1,0,-1,91,0,0,0,0,0]
[{"$f":"'Survey Data'!A97","v":79},{"$f":"'Survey Data'!B97","v":0},{"$f":"'Survey Data'!C97","v":0},{"$f":"'Survey Data'!D97","v":0},{"$f":"'Survey Data'!E97","v":0},{"$f":"'Survey Data'!F97","v":0},{"$f":"'Survey Data'!G97","v":0},{"$f":"'Survey Data'!H97","v":0},null,-1,0,-1,91,0,0,0,0,0]
[{"$f":"'Survey Data'!A98","v":80},{"$f":"'Survey Data'!B98","v":0},{"$f":"'Survey Data'!C98","v":0},{"$f":"'Survey Data'!D98","v":0},{"$f":"'Survey Data'!E98","v":0},{"$f":"'Survey Data'!F98","v":0},{"$f":"'Survey Data'!G98","v":0},{"$f":"'Survey Data'!H98","v":0},null,-1,0,-1,91,0,0,0,0,0]
[{"$f":"'Survey Data'!A99","v":81},{"$f":"'Survey Data'!B99","v":0},{"$f":"'Survey Data'!C99","v":0},{"$f":"'Survey Data'!D99","v":0},{"$f":"'Survey Data'!E99","v":0},{"$f":"'Survey Data'!F99","v":0},{"$f":"'Survey Data'!G99","v":0},{"$f":"'Survey Data'!H99","v":0},null,-1,0,-1,91,0,0,0,0,0]
[{"$f":"'Survey Data'!A100","v":82},{"$f":"'Survey Data'!B100","v":0},{"$f":"'Survey Data'!C100","v":0},{"$f":"'Survey Data'!D100","v":0},{"$f":"'Survey Data'!E100","v":0},{"$f":"'Survey Data'!F100","v":0},{"$f":"'Survey Data'!G100","v":0},{"$f":"'Survey Data'!H100","v":0},null,-1,0,-1,91,0,0,0,0,0]
[{"$f":"'Survey Data'!A101","v":83},{"$f":"'Survey Data'!B101","v":0},{"$f":"'Survey Data'!C101","v":0},{"$f":"'Survey Data'!D101","v":0},{"$f":"'Survey Data'!E101","v":0},{"$f":"'Survey Data'!F101","v":0},{"$f":"'Survey Data'!G101","v":0},{"$f":"'Survey Data'!H101","v":0},null,-1,0,-1,91,0,0,0,0,0]
[{"$f":"'Survey Data'!A102","v":84},{"$f":"'Survey Data'!B102","v":0},{"$f":"'Survey Data'!C102","v":0},{"$f":"'Survey Data'!D102","v":0},{"$f":"'Survey Data'!E102","v":0},{"$f":"'Survey Data'!F102","v":0},{"$f":"'Survey Data'!G102","v":0},{"$f":"'Survey Data'!H102","v":0},null,-1,0,-1,91,0,0,0,0,0]
[{"$f":"'Survey Data'!A103","v":85},{"$f":"'Survey Data'!B103","v":0},{"$f":"'Survey Data'!C103","v":0},{"$f":"'Survey Data'!D103","v":0},{"$f":"'Survey Data'!E103","v":0},{"$f":"'Survey Data'!F103","v":0},{"$f":"'Survey Data'!G103","v":0},{"$f":"'Survey Data'!H103","v":0},null,-1,0,-1,91,0,0,0,0,0]
[{"$f":"'Survey Data'!A104","v":86},{"$f":"'Survey Data'!B104","v":0},{"$f":"'Survey Data'!C104","v":0},{"$f":"'Survey Data'!D104","v":0},{"$f":"'Survey Data'!E104","v":0},{"$f":"'Survey Data'!F104","v":0},{"$f":"'Survey Data'!G104","v":0},{"$f":"'Survey Data'!H104","v":0},null,-1,0,-1,91,0,0,0,0,0]
[{"$f":"'Survey Data'!A105","v":87},{"$f":"'Survey Data'!B105","v":0},{"$f":"'Survey Data'!C105","v":0},{"$f":"'Survey Data'!D105","v":0},{"$f":"'Survey Data'!E105","v":0},{"$f":"'Survey Data'!F105","v":0},{"$f":"'Survey Data'!G105","v":0},{"$f":"'Survey Data'!H105","v":0},null,-1,0,-1,91,0,0,0,0,0]
[{"$f":"'Survey Data'!A106","v":88},{"$f":"'Survey Data'!B106","v":0},{"$f":"'Survey Data'!C106","v":0},{"$f":"'Survey Data'!D106","v":0},{"$f":"'Survey Data'!E106","v":0},{"$f":"'Survey Data'!F106","v":0},{"$f":"'Survey Data'!G106","v":0},{"$f":"'Survey Data'!H106","v":0},null,-1,0,-1,91,0,0,0,0,0]
[{"$f":"'Survey Data'!A107","v":89},{"$f":"'Survey Data'!B107","v":0},{"$f":"'Survey Data'!C107","v":0},{"$f":"'Survey Data'!D107","v":0},{"$f":"'Survey Data'!E107","v":0},{"$f":"'Survey Data'!F107","v":0},{"$f":"'Survey Data'!G107","v":0},{"$f":"'Survey Data'!H107","v":0},null,-1,0,-1,91,0,0,0,0,0]
[{"$f":"'Survey Data'!A108","v":90},{"$f":"'Survey Data'!B108","v":0},{"$f":"'Survey Data'!C108","v":0},{"$f":"'Survey Data'!D108","v":0},{"$f":"'Survey Data'!E108","v":0},{"$f":"'Survey Data'!F108","v":0},{"$f":"'Survey Data'!G108","v":0},{"$f":"'Survey Data'!H108","v":0},null,-1,0,-1,91,0,0,0,0,0]
[{"$f":"'Survey Data'!A109","v":91},{"$f":"'Survey Data'!B109","v":0},{"$f":"'Survey Data'!C109","v":0},{"$f":"'Survey Data'!D109","v":0},{"$f":"'Survey Data'!E109","v":0},{"$f":"'Survey Data'!F109","v":0},{"$f":"'Survey Data'!G109","v":0},{"$f":"'Survey Data'!H109","v":0},null,-1,0,-1,91,0,0,0,0,0]
[{"$f":"'Survey Data'!A110","v":92},{"$f":"'Survey Data'!B110","v":0},{"$f":"'Survey Data'!C110","v":0},{"$f":"'Survey Data'!D110","v":0},{"$f":"'Survey Data'!E110","v":0},{"$f":"'Survey Data'!F110","v":0},{"$f":"'Survey Data'!G110","v":0},{"$f":"'Survey Data'!H110","v":0},null,-1,0,-1,91,0,0,0,0,0]
[{"$f":"'Survey Data'!A111","v":93},{"$f":"'Survey Data'!B111","v":0},{"$f":"'Survey Data'!C111","v":0},{"$f":"'Survey Data'!D111","v":0},{"$f":"'Survey Data'!E111","v":0},{"$f":"'Survey Data'!F111","v":0},{"$f":"'Survey Data'!G111","v":0},{"$f":"'Survey Data'!H111","v":0},null,-1,0,-1,91,0,0,0,0,0]
[{"$f":"'Survey Data'!A112","v":94},{"$f":"'Survey Data'!B112","v":0},{"$f":"'Survey Data'!C112","v":0},{"$f":"'Survey Data'!D112","v":0},{"$f":"'Survey Data'!E112","v":0},{"$f":"'Survey Data'!F112","v":0},{"$f":"'Survey Data'!G112","v":0},{"$f":"'Survey Data'!H112","v":0},null,-1,0,-1,91,0,0,0,0,0]
[{"$f":"'Survey Data'!A113","v":95},{"$f":"'Survey Data'!B113","v":0},{"$f":"'Survey Data'!C113","v":0},{"$f":"'Survey Data'!D113","v":0},{"$f":"'Survey Data'!E113","v":0},{"$f":"'Survey Data'!F113","v":0},{"$f":"'Survey Data'!G113","v":0},{"$f":"'Survey Data'!H113","v":0},null,-1,0,-1,91,0,0,0,0,0]
[{"$f":"'Survey Data'!A114","v":96},{"$f":"'Survey Data'!B114","v":0},{"$f":"'Survey Data'!C114","v":0},{"$f":"'Survey Data'!D114","v":0},{"$f":"'Survey Data'!E114","v":0},{"$f":"'Survey Data'!F114","v":0},{"$f":"'Survey Data'!G114","v":0},{"$f":"'Survey Data'!H114","v":0},null,-1,0,-1,91,0,0,0,0,0]
[{"$f":"'Survey Data'!A115","v":97},{"$f":"'Survey Data'!B115","v":0},{"$f":"'Survey Data'!C115","v":0},{"$f":"'Survey Data'!D115","v":0},{"$f":"'Survey Data'!E115","v":0},{"$f":"'Survey Data'!F115","v":0},{"$f":"'Survey Data'!G115","v":0},{"$f":"'Survey Data'!H115","v":0},null,-1,0,-1,91,0,0,0,0,0]
[{"$f":"'Survey Data'!A116","v":98},{"$f":"'Survey Data'!B116","v":0},{"$f":"'Survey Data'!C116","v":0},{"$f":"'Survey Data'!D116","v":0},{"$f":"'Survey Data'!E116","v":0},{"$f":"'Survey Data'!F116","v":0},{"$f":"'Survey Data'!G116","v":0},{"$f":"'Survey Data'!H116","v":0},null,-1,0,-1,91,0,0,0,0,0]
[{"$f":"'Survey Data'!A117","v":99},{"$f":"'Survey Data'!B117","v":0},{"$f":"'Survey Data'!C117","v":0},{"$f":"'Survey Data'!D117","v":0},{"$f":"'Survey Data'!E117","v":0},{"$f":"'Survey Data'!F117","v":0},{"$f":"'Survey Data'!G117","v":0},{"$f":"'Survey Data'!H117","v":0},null,-1,0,-1,91,0,0,0,0,0]
[{"$f":"'Survey Data'!A118","v":100},{"$f":"'Survey Data'!B118","v":0},{"$f":"'Survey Data'!C118","v":0},{"$f":"'Survey Data'!D118","v":0},{"$f":"'Survey Data'!E118","v":0},{"$f":"'Survey Data'!F118","v":0},{"$f":"'Survey Data'!G118","v":0},{"$f":"'Survey Data'!H118","v":0},null,-1,0,-1,91,0,0,0,0,0]
[{"$f":"'Survey Data'!A119","v":101},{"$f":"'Survey Data'!B119","v":0},{"$f":"'Survey Data'!C119","v":0},{"$f":"'Survey Data'!D119","v":0},{"$f":"'Survey Data'!E119","v":0},{"$f":"'Survey Data'!F119","v":0},{"$f":"'Survey Data'!G119","v":0},{"$f":"'Survey Data'!H119","v":0},null,-1,0,-1,91,0,0,0,0,0]
[{"$f":"'Survey Data'!A120","v":102},{"$f":"'Survey Data'!B120","v":0},{"$f":"'Survey Data'!C120","v":0},{"$f":"'Survey Data'!D120","v":0},{"$f":"'Survey Data'!E120","v":0},{"$f":"'Survey Data'!F120","v":0},{"$f":"'Survey Data'!G120","v":0},{"$f":"'Survey Data'!H120","v":0},null,-1,0,-1,91,0,0,0,0,0]
[{"$f":"'Survey Data'!A121","v":103},{"$f":"'Survey Data'!B121","v":0},{"$f":"'Survey Data'!C121","v":0},{"$f":"'Survey Data'!D121","v":0},{"$f":"'Survey Data'!E121","v":0},{"$f":"'Survey Data'!F121","v":0},{"$f":"'Survey Data'!G121","v":0},{"$f":"'Survey Data'!H121","v":0},null,-1,0,-1,91,0,0,0,0,0]
[{"$f":"'Survey Data'!A122","v":104},{"$f":"'Survey Data'!B122","v":0},{"$f":"'Survey Data'!C122","v":0},{"$f":"'Survey Data'!D122","v":0},{"$f":"'Survey Data'!E122","v":0},{"$f":"'Survey Data'!F122","v":0},{"$f":"'Survey Data'!G122","v":0},{"$f":"'Survey Data'!H122","v":0},null,-1,0,-1,91,0,0,0,0,0]
[{"$f":"'Survey Data'!A123","v":105},{"$f":"'Survey Data'!B123","v":0},{"$f":"'Survey Data'!C123","v":0},{"$f":"'Survey Data'!D123","v":0},{"$f":"'Survey Data'!E123","v":0},{"$f":"'Survey Data'!F123","v":0},{"$f":"'Survey Data'!G123","v":0},{"$f":"'Survey Data'!H123","v":0},null,-1,0,-1,91,0,0,0,0,0]
[{"$f":"'Survey Data'!A124","v":106},{"$f":"'Survey Data'!B124","v":0},{"$f":"'Survey Data'!C124","v":0},{"$f":"'Survey Data'!D124","v":0},{"$f":"'Survey Data'!E124","v":0},{"$f":"'Survey Data'!F124","v":0},{"$f":"'Survey Data'!G124","v":0},{"$f":"'Survey Data'!H124","v":0},null,-1,0,-1,91,0,0,0,0,0]
[{"$f":"'Survey Data'!A125","v":107},{"$f":"'Survey Data'!B125","v":0},{"$f":"'Survey Data'!C125","v":0},{"$f":"'Survey Data'!D125","v":0},{"$f":"'Survey Data'!E125","v":0},{"$f":"'Survey Data'!F125","v":0},{"$f":"'Survey Data'!G125","v":0},{"$f":"'Survey Data'!H125","v":0},null,-1,0,-1,91,0,0,0,0,0]
[{"$f":"'Survey Data'!A126","v":108},{"$f":"'Survey Data'!B126","v":0},{"$f":"'Survey Data'!C126","v":0},{"$f":"'Survey Data'!D126","v":0},{"$f":"'Survey Data'!E126","v":0},{"$f":"'Survey Data'!F126","v":0},{"$f":"'Survey Data'!G126","v":0},{"$f":"'Survey Data'!H126","v":0},null,-1,0,-1,91,0,0,0,0,0]
[{"$f":"'Survey Data'!A127","v":109},{"$f":"'Survey Data'!B127","v":0},{"$f":"'Survey Data'!C127","v":0},{"$f":"'Survey Data'!D127","v":0},{"$f":"'Survey Data'!E127","v":0},{"$f":"'Survey Data'!F127","v":0},{"$f":"'Survey Data'!G127","v":0},{"$f":"'Survey Data'!H127","v":0},null,-1,0,-1,91,0,0,0,0,0]
[{"$f":"'Survey Data'!A128","v":110},{"$f":"'Survey Data'!B128","v":0},{"$f":"'Survey Data'!C128","v":0},{"$f":"'Survey Data'!D128","v":0},{"$f":"'Survey Data'!E128","v":0},{"$f":"'Survey Data'!F128","v":0},{"$f":"'Survey Data'!G128","v":0},{"$f":"'Survey Data'!H128","v":0},null,-1,0,-1,91,0,0,0,0,0]
[{"$f":"'Survey Data'!A129","v":111},{"$f":"'Survey Data'!B129","v":0},{"$f":"'Survey Data'!C129","v":0},{"$f":"'Survey Data'!D129","v":0},{"$f":"'Survey Data'!E129","v":0},{"$f":"'Survey Data'!F129","v":0},{"$f":"'Survey Data'!G129","v":0},{"$f":"'Survey Data'!H129","v":0},null,-1,0,-1,91,0,0,0,0,0]
[{"$f":"'Survey Data'!A130","v":112},{"$f":"'Survey Data'!B130","v":0},{"$f":"'Survey Data'!C130","v":0},{"$f":"'Survey Data'!D130","v":0},{"$f":"'Survey Data'!E130","v":0},{"$f":"'Survey Data'!F130","v":0},{"$f":"'Survey Data'!G130","v":0},{"$f":"'Survey Data'!H130","v":0},null,-1,0,-1,91,0,0,0,0,0]
[{"$f":"'Survey Data'!A131","v":113},{"$f":"'Survey Data'!B131","v":0},{"$f":"'Survey Data'!C131","v":0},{"$f":"'Survey Data'!D131","v":0},{"$f":"'Survey Data'!E131","v":0},{"$f":"'Survey Data'!F131","v":0},{"$f":"'Survey Data'!G131","v":0},{"$f":"'Survey Data'!H131","v":0},null,-1,0,-1,91,0,0,0,0,0]
[{"$f":"'Survey Data'!A132","v":114},{"$f":"'Survey Data'!B132","v":0},{"$f":"'Survey Data'!C132","v":0},{"$f":"'Survey Data'!D132","v":0},{"$f":"'Survey Data'!E132","v":0},{"$f":"'Survey Data'!F132","v":0},{"$f":"'Survey Data'!G132","v":0},{"$f":"'Survey Data'!H132","v":0},null,-1,0,-1,91,0,0,0,0,0]
[{"$f":"'Survey Data'!A133","v":115},{"$f":"'Survey Data'!B133","v":0},{"$f":"'Survey Data'!C133","v":0},{"$f":"'Survey Data'!D133","v":0},{"$f":"'Survey Data'!E133","v":0},{"$f":"'Survey Data'!F133","v":0},{"$f":"'Survey Data'!G133","v":0},{"$f":"'Survey Data'!H133","v":0},null,-1,0,-1,91,0,0,0,0,0]
[{"$f":"'Survey Data'!A134","v":116},{"$f":"'Survey Data'!B134","v":0},{"$f":"'Survey Data'!C134","v":0},{"$f":"'Survey Data'!D134","v":0},{"$f":"'Survey Data'!E134","v":0},{"$f":"'Survey Data'!F134","v":0},{"$f":"'Survey Data'!G134","v":0},{"$f":"'Survey Data'!H134","v":0},null,-1,0,-1,91,0,0,0,0,0]
[{"$f":"'Survey Data'!A135","v":117},{"$f":"'Survey Data'!B135","v":0},{"$f":"'Survey Data'!C135","v":0},{"$f":"'Survey Data'!D135","v":0},{"$f":"'Survey Data'!E135","v":0},{"$f":"'Survey Data'!F135","v":0},{"$f":"'Survey Data'!G135","v":0},{"$f":"'Survey Data'!H135","v":0},null,-1,0,-1,91,0,0,0,0,0]
[{"$f":"'Survey Data'!A136","v":118},{"$f":"'Survey Data'!B136","v":0},{"$f":"'Survey Data'!C136","v":0},{"$f":"'Survey Data'!D136","v":0},{"$f":"'Survey Data'!E136","v":0},{"$f":"'Survey Data'!F136","v":0},{"$f":"'Survey Data'!G136","v":0},{"$f":"'Survey Data'!H136","v":0},null,-1,0,-1,91,0,0,0,0,0]
[{"$f":"'Survey Data'!A137","v":119},{"$f":"'Survey Data'!B137","v":0},{"$f":"'Survey Data'!C137","v":0},{"$f":"'Survey Data'!D137","v":0},{"$f":"'Survey Data'!E137","v":0},{"$f":"'Survey Data'!F137","v":0},{"$f":"'Survey Data'!G137","v":0},{"$f":"'Survey Data'!H137","v":0},null,-1,0,-1,91,0,0,0,0,0]
[{"$f":"'Survey Data'!A138","v":120},{"$f":"'Survey Data'!B138","v":0},{"$f":"'Survey Data'!C138","v":0},{"$f":"'Survey Data'!D138","v":0},{"$f":"'Survey Data'!E138","v":0},{"$f":"'Survey Data'!F138","v":0},{"$f":"'Survey Data'!G138","v":0},{"$f":"'Survey Data'!H138","v":0},null,-1,0,-1,91,0,0,0,0,0]
[{"$f":"'Survey Data'!A139","v":121},{"$f":"'Survey Data'!B139","v":0},{"$f":"'Survey Data'!C139","v":0},{"$f":"'Survey Data'!D139","v":0},{"$f":"'Survey Data'!E139","v":0},{"$f":"'Survey Data'!F139","v":0},{"$f":"'Survey Data'!G139","v":0},{"$f":"'Survey Data'!H139","v":0},null,-1,0,-1,91,0,0,0,0,0]
[{"$f":"'Survey Data'!A140","v":122},{"$f":"'Survey Data'!B140","v":0},{"$f":"'Survey Data'!C140","v":0},{"$f":"'Survey Data'!D140","v":0},{"$f":"'Survey Data'!E140","v":0},{"$f":"'Survey Data'!F140","v":0},{"$f":"'Survey Data'!G140","v":0},{"$f":"'Survey Data'!H140","v":0},null,-1,0,-1,91,0,0,0,0,0]
[{"$f":"'Survey Data'!A141","v":123},{"$f":"'Survey Data'!B141","v":0},{"$f":"'Survey Data'!C141","v":0},{"$f":"'Survey Data'!D141","v":0},{"$f":"'Survey Data'!E141","v":0},{"$f":"'Survey Data'!F141","v":0},{"$f":"'Survey Data'!G141","v":0},{"$f":"'Survey Data'!H141","v":0},null,-1,0,-1,91,0,0,0,0,0]
[{"$f":"'Survey Data'!A142","v":124},{"$f":"'Survey Data'!B142","v":0},{"$f":"'Survey Data'!C142","v":0},{"$f":"'Survey Data'!D142","v":0},{"$f":"'Survey Data'!E142","v":0},{"$f":"'Survey Data'!F142","v":0},{"$f":"'Survey Data'!G142","v":0},{"$f":"'Survey Data'!H142","v":0},null,-1,0,-1,91,0,0,0,0,0]
[{"$f":"'Survey Data'!A143","v":125},{"$f":"'Survey Data'!B143","v":0},{"$f":"'Survey Data'!C143","v":0},{"$f":"'Survey Data'!D143","v":0},{"$f":"'Survey Data'!E143","v":0},{"$f":"'Survey Data'!F143","v":0},{"$f":"'Survey Data'!G143","v":0},{"$f":"'Survey Data'!H143","v":0},null,-1,0,-1,91,0,0,0,0,0]
[{"$f":"'Survey Data'!A144","v":126},{"$f":"'Survey Data'!B144","v":0},{"$f":"'Survey Data'!C144","v":0},{"$f":"'Survey Data'!D144","v":0},{"$f":"'Survey Data'!E144","v":0},{"$f":"'Survey Data'!F144","v":0},{"$f":"'Survey Data'!G144","v":0},{"$f":"'Survey Data'!H144","v":0},null,-1,0,-1,91,0,0,0,0,0]
[{"$f":"'Survey Data'!A145","v":127},{"$f":"'Survey Data'!B145","v":0},{"$f":"'Survey Data'!C145","v":0},{"$f":"'Survey Data'!D145","v":0},{"$f":"'Survey Data'!E145","v":0},{"$f":"'Survey Data'!F145","v":0},{"$f":"'Survey Data'!G145","v":0},{"$f":"'Survey Data'!H145","v":0},null,-1,0,-1,91,0,0,0,0,0]
[{"$f":"'Survey Data'!A146","v":128},{"$f":"'Survey Data'!B146","v":0},{"$f":"'Survey Data'!C146","v":0},{"$f":"'Survey Data'!D146","v":0},{"$f":"'Survey Data'!E146","v":0},{"$f":"'Survey Data'!F146","v":0},{"$f":"'Survey Data'!G146","v":0},{"$f":"'Survey Data'!H146","v":0},null,-1,0,-1,91,0,0,0,0,0]
[{"$f":"'Survey Data'!A147","v":129},{"$f":"'Survey Data'!B147","v":0},{"$f":"'Survey Data'!C147","v":0},{"$f":"'Survey Data'!D147","v":0},{"$f":"'Survey Data'!E147","v":0},{"$f":"'Survey Data'!F147","v":0},{"$f":"'Survey Data'!G147","v":0},{"$f":"'Survey Data'!H147","v":0},null,-1,0,-1,91,0,0,0,0,0]
[{"$f":"'Survey Data'!A148","v":130},{"$f":"'Survey Data'!B148","v":0},{"$f":"'Survey Data'!C148","v":0},{"$f":"'Survey Data'!D148","v":0},{"$f":"'Survey Data'!E148","v":0},{"$f":"'Survey Data'!F148","v":0},{"$f":"'Survey Data'!G148","v":0},{"$f":"'Survey Data'!H148","v":0},null,{"$f":"SurveyBearing2Angle(B133,C133,D133)","v":-1},{"$f":"$K$3","v":0},{"$f":"J133+K133","v":-1},{"$f":"MOD(450-L133,360)","v":91},{"$f":"(E133*4*16.5)+(F133*16.5)+(G133*16.5/25)","v":0},{"$f":"COS(RADIANS(M133))*N133","v":0},{"$f":"SIN(RADIANS(M133))*N133","v":0},{"$f":"Q132+O133","v":0},{"$f":"R132+P133","v":0}]
[{"$f":"'Survey Data'!A149","v":131},{"$f":"'Survey Data'!B149","v":0},{"$f":"'Survey Data'!C149","v":0},{"$f":"'Survey Data'!D149","v":0},{"$f":"'Survey Data'!E149","v":0},{"$f":"'Survey Data'!F149","v":0},{"$f":"'Survey Data'!G149","v":0},{"$f":"'Survey Data'!H149","v":0},null,-1,0,-1,91,0,0,0,0,0]
[{"$f":"'Survey Data'!A150","v":132},{"$f":"'Survey Data'!B150","v":0},{"$f":"'Survey Data'!C150","v":0},{"$f":"'Survey Data'!D150","v":0},{"$f":"'Survey Data'!E150","v":0},{"$f":"'Survey Data'!F150","v":0},{"$f":"'Survey Data'!G150","v":0},{"$f":"'Survey Data'!H150","v":0},null,-1,0,-1,91,0,0,0,0,0]
[{"$f":"'Survey Data'!A151","v":133},{"$f":"'Survey Data'!B151","v":0},{"$f":"'Survey Data'!C151","v":0},{"$f":"'Survey Data'!D151","v":0},{"$f":"'Survey Data'!E151","v":0},{"$f":"'Survey Data'!F151","v":0},{"$f":"'Survey Data'!G151","v":0},{"$f":"'Survey Data'!H151","v":0},null,-1,0,-1,91,0,0,0,0,0]
[{"$f":"'Survey Data'!A152","v":134},{"$f":"'Survey Data'!B152","v":0},{"$f":"'Survey Data'!C152","v":0},{"$f":"'Survey Data'!D152","v":0},{"$f":"'Survey Data'!E152","v":0},{"$f":"'Survey Data'!F152","v":0},{"$f":"'Survey Data'!G152","v":0},{"$f":"'Survey Data'!H152","v":0},null,-1,0,-1,91,0,0,0,0,0]
[{"$f":"'Survey Data'!A153","v":135},{"$f":"'Survey Data'!B153","v":0},{"$f":"'Survey Data'!C153","v":0},{"$f":"'Survey Data'!D153","v":0},{"$f":"'Survey Data'!E153","v":0},{"$f":"'Survey Data'!F153","v":0},{"$f":"'Survey Data'!G153","v":0},{"$f":"'Survey Data'!H153","v":0},null,-1,0,-1,91,0,0,0,0,0]
[{"$f":"'Survey Data'!A154","v":136},{"$f":"'Survey Data'!B154","v":0},{"$f":"'Survey Data'!C154","v":0},{"$f":"'Survey Data'!D154","v":0},{"$f":"'Survey Data'!E154","v":0},{"$f":"'Survey Data'!F154","v":0},{"$f":"'Survey Data'!G154","v":0},{"$f":"'Survey Data'!H154","v":0},null,-1,0,-1,91,0,0,0,0,0]
[{"$f":"'Survey Data'!A155","v":137},{"$f":"'Survey Data'!B155","v":0},{"$f":"'Survey Data'!C155","v":0},{"$f":"'Survey Data'!D155","v":0},{"$f":"'Survey Data'!E155","v":0},{"$f":"'Survey Data'!F155","v":0},{"$f":"'Survey Data'!G155","v":0},{"$f":"'Survey Data'!H155","v":0},null,-1,0,-1,91,0,0,0,0,0]
[{"$f":"'Survey Data'!A156","v":138},{"$f":"'Survey Data'!B156","v":0},{"$f":"'Survey Data'!C156","v":0},{"$f":"'Survey Data'!D156","v":0},{"$f":"'Survey Data'!E156","v":0},{"$f":"'Survey Data'!F156","v":0},{"$f":"'Survey Data'!G156","v":0},{"$f":"'Survey Data'!H156","v":0},null,-1,0,-1,91,0,0,0,0,0]
[{"$f":"'Survey Data'!A157","v":139},{"$f":"'Survey Data'!B157","v":0},{"$f":"'Survey Data'!C157","v":0},{"$f":"'Survey Data'!D157","v":0},{"$f":"'Survey Data'!E157","v":0},{"$f":"'Survey Data'!F157","v":0},{"$f":"'Survey Data'!G157","v":0},{"$f":"'Survey Data'!H157","v":0},null,-1,0,-1,91,0,0,0,0,0]
[{"$f":"'Survey Data'!A158","v":140},{"$f":"'Survey Data'!B158","v":0},{"$f":"'Survey Data'!C158","v":0},{"$f":"'Survey Data'!D158","v":0},{"$f":"'Survey Data'!E158","v":0},{"$f":"'Survey Data'!F158","v":0},{"$f":"'Survey Data'!G158","v":0},{"$f":"'Survey Data'!H158","v":0},null,-1,0,-1,91,0,0,0,0,0]
[{"$f":"'Survey Data'!A159","v":141},{"$f":"'Survey Data'!B159","v":0},{"$f":"'Survey Data'!C159","v":0},{"$f":"'Survey Data'!D159","v":0},{"$f":"'Survey Data'!E159","v":0},{"$f":"'Survey Data'!F159","v":0},{"$f":"'Survey Data'!G159","v":0},{"$f":"'Survey Data'!H159","v":0},null,-1,0,-1,91,0,0,0,0,0]
[{"$f":"'Survey Data'!A160","v":142},{"$f":"'Survey Data'!B160","v":0},{"$f":"'Survey Data'!C160","v":0},{"$f":"'Survey Data'!D160","v":0},{"$f":"'Survey Data'!E160","v":0},{"$f":"'Survey Data'!F160","v":0},{"$f":"'Survey Data'!G160","v":0},{"$f":"'Survey Data'!H160","v":0},null,-1,0,-1,91,0,0,0,0,0]
[{"$f":"'Survey Data'!A161","v":143},{"$f":"'Survey Data'!B161","v":0},{"$f":"'Survey Data'!C161","v":0},{"$f":"'Survey Data'!D161","v":0},{"$f":"'Survey Data'!E161","v":0},{"$f":"'Survey Data'!F161","v":0},{"$f":"'Survey Data'!G161","v":0},{"$f":"'Survey Data'!H161","v":0},null,-1,0,-1,91,0,0,0,0,0]
[{"$f":"'Survey Data'!A162","v":144},{"$f":"'Survey Data'!B162","v":0},{"$f":"'Survey Data'!C162","v":0},{"$f":"'Survey Data'!D162","v":0},{"$f":"'Survey Data'!E162","v":0},{"$f":"'Survey Data'!F162","v":0},{"$f":"'Survey Data'!G162","v":0},{"$f":"'Survey Data'!H162","v":0},null,-1,0,-1,91,0,0,0,0,0]
[{"$f":"'Survey Data'!A163","v":145},{"$f":"'Survey Data'!B163","v":0},{"$f":"'Survey Data'!C163","v":0},{"$f":"'Survey Data'!D163","v":0},{"$f":"'Survey Data'!E163","v":0},{"$f":"'Survey Data'!F163","v":0},{"$f":"'Survey Data'!G163","v":0},{"$f":"'Survey Data'!H163","v":0},null,-1,0,-1,91,0,0,0,0,0]
[{"$f":"'Survey Data'!A164","v":146},{"$f":"'Survey Data'!B164","v":0},{"$f":"'Survey Data'!C164","v":0},{"$f":"'Survey Data'!D164","v":0},{"$f":"'Survey Data'!E164","v":0},{"$f":"'Survey Data'!F164","v":0},{"$f":"'Survey Data'!G164","v":0},{"$f":"'Survey Data'!H164","v":0},null,-1,0,-1,91,0,0,0,0,0]
[{"$f":"'Survey Data'!A165","v":147},{"$f":"'Survey Data'!B165","v":0},{"$f":"'Survey Data'!C165","v":0},{"$f":"'Survey Data'!D165","v":0},{"$f":"'Survey Data'!E165","v":0},{"$f":"'Survey Data'!F165","v":0},{"$f":"'Survey Data'!G165","v":0},{"$f":"'Survey Data'!H165","v":0},null,-1,0,-1,91,0,0,0,0,0]
[{"$f":"'Survey Data'!A166","v":148},{"$f":"'Survey Data'!B166","v":0},{"$f":"'Survey Data'!C166","v":0},{"$f":"'Survey Data'!D166","v":0},{"$f":"'Survey Data'!E166","v":0},{"$f":"'Survey Data'!F166","v":0},{"$f":"'Survey Data'!G166","v":0},{"$f":"'Survey Data'!H166","v":0},null,-1,0,-1,91,0,0,0,0,0]
[{"$f":"'Survey Data'!A167","v":149},{"$f":"'Survey Data'!B167","v":0},{"$f":"'Survey Data'!C167","v":0},{"$f":"'Survey Data'!D167","v":0},{"$f":"'Survey Data'!E167","v":0},{"$f":"'Survey Data'!F167","v":0},{"$f":"'Survey Data'!G167","v":0},{"$f":"'Survey Data'!H167","v":0},null,-1,0,-1,91,0,0,0,0,0]
[{"$f":"'Survey Data'!A168","v":150},{"$f":"'Survey Data'!B168","v":0},{"$f":"'Survey Data'!C168","v":0},{"$f":"'Survey Data'!D168","v":0},{"$f":"'Survey Data'!E168","v":0},{"$f":"'Survey Data'!F168","v":0},{"$f":"'Survey Data'!G168","v":0},{"$f":"'Survey Data'!H168","v":0},null,-1,0,-1,91,0,0,0,0,0]
[{"$f":"'Survey Data'!A169","v":151},{"$f":"'Survey Data'!B169","v":0},{"$f":"'Survey Data'!C169","v":0},{"$f":"'Survey Data'!D169","v":0},{"$f":"'Survey Data'!E169","v":0},{"$f":"'Survey Data'!F169","v":0},{"$f":"'Survey Data'!G169","v":0},{"$f":"'Survey Data'!H169","v":0},null,-1,0,-1,91,0,0,0,0,0]
[{"$f":"'Survey Data'!A170","v":152},{"$f":"'Survey Data'!B170","v":0},{"$f":"'Survey Data'!C170","v":0},{"$f":"'Survey Data'!D170","v":0},{"$f":"'Survey Data'!E170","v":0},{"$f":"'Survey Data'!F170","v":0},{"$f":"'Survey Data'!G170","v":0},{"$f":"'Survey Data'!H170","v":0},null,-1,0,-1,91,0,0,0,0,0]
[{"$f":"'Survey Data'!A171","v":153},{"$f":"'Survey Data'!B171","v":0},{"$f":"'Survey Data'!C171","v":0},{"$f":"'Survey Data'!D171","v":0},{"$f":"'Survey Data'!E171","v":0},{"$f":"'Survey Data'!F171","v":0},{"$f":"'Survey Data'!G171","v":0},{"$f":"'Survey Data'!H171","v":0},null,-1,0,-1,91,0,0,0,0,0]
[{"$f":"'Survey Data'!A172","v":154},{"$f":"'Survey Data'!B172","v":0},{"$f":"'Survey Data'!C172","v":0},{"$f":"'Survey Data'!D172","v":0},{"$f":"'Survey Data'!E172","v":0},{"$f":"'Survey Data'!F172","v":0},{"$f":"'Survey Data'!G172","v":0},{"$f":"'Survey Data'!H172","v":0},null,-1,0,-1,91,0,0,0,0,0]
[{"$f":"'Survey Data'!A173","v":155},{"$f":"'Survey Data'!B173","v":0},{"$f":"'Survey Data'!C173","v":0},{"$f":"'Survey Data'!D173","v":0},{"$f":"'Survey Data'!E173","v":0},{"$f":"'Survey Data'!F173","v":0},{"$f":"'Survey Data'!G173","v":0},{"$f":"'Survey Data'!H173","v":0},null,-1,0,-1,91,0,0,0,0,0]
[{"$f":"'Survey Data'!A174","v":156},{"$f":"'Survey Data'!B174","v":0},{"$f":"'Survey Data'!C174","v":0},{"$f":"'Survey Data'!D174","v":0},{"$f":"'Survey Data'!E174","v":0},{"$f":"'Survey Data'!F174","v":0},{"$f":"'Survey Data'!G174","v":0},{"$f":"'Survey Data'!H174","v":0},null,-1,0,-1,91,0,0,0,0,0]
[{"$f":"'Survey Data'!A175","v":157},{"$f":"'Survey Data'!B175","v":0},{"$f":"'Survey Data'!C175","v":0},{"$f":"'Survey Data'!D175","v":0},{"$f":"'Survey Data'!E175","v":0},{"$f":"'Survey Data'!F175","v":0},{"$f":"'Survey Data'!G175","v":0},{"$f":"'Survey Data'!H175","v":0},null,-1,0,-1,91,0,0,0,0,0]
[{"$f":"'Survey Data'!A176","v":158},{"$f":"'Survey Data'!B176","v":0},{"$f":"'Survey Data'!C176","v":0},{"$f":"'Survey Data'!D176","v":0},{"$f":"'Survey Data'!E176","v":0},{"$f":"'Survey Data'!F176","v":0},{"$f":"'Survey Data'!G176","v":0},{"$f":"'Survey Data'!H176","v":0},null,-1,0,-1,91,0,0,0,0,0]
[{"$f":"'Survey Data'!A177","v":159},{"$f":"'Survey Data'!B177","v":0},{"$f":"'Survey Data'!C177","v":0},{"$f":"'Survey Data'!D177","v":0},{"$f":"'Survey Data'!E177","v":0},{"$f":"'Survey Data'!F177","v":0},{"$f":"'Survey Data'!G177","v":0},{"$f":"'Survey Data'!H177","v":0},null,-1,0,-1,91,0,0,0,0,0]
[{"$f":"'Survey Data'!A178","v":160},{"$f":"'Survey Data'!B178","v":0},{"$f":"'Survey Data'!C178","v":0},{"$f":"'Survey Data'!D178","v":0},{"$f":"'Survey Data'!E178","v":0},{"$f":"'Survey Data'!F178","v":0},{"$f":"'Survey Data'!G178","v":0},{"$f":"'Survey Data'!H178","v":0},null,-1,0,-1,91,0,0,0,0,0]
[{"$f":"'Survey Data'!A179","v":161},{"$f":"'Survey Data'!B179","v":0},{"$f":"'Survey Data'!C179","v":0},{"$f":"'Survey Data'!D179","v":0},{"$f":"'Survey Data'!E179","v":0},{"$f":"'Survey Data'!F179","v":0},{"$f":"'Survey Data'!G179","v":0},{"$f":"'Survey Data'!H179","v":0},null,-1,0,-1,91,0,0,0,0,0]
[{"$f":"'Survey Data'!A180","v":162},{"$f":"'Survey Data'!B180","v":0},{"$f":"'Survey Data'!C180","v":0},{"$f":"'Survey Data'!D180","v":0},{"$f":"'Survey Data'!E180","v":0},{"$f":"'Survey Data'!F180","v":0},{"$f":"'Survey Data'!G180","v":0},{"$f":"'Survey Data'!H180","v":0},null,-1,0,-1,91,0,0,0,0,0]
[{"$f":"'Survey Data'!A181","v":163},{"$f":"'Survey Data'!B181","v":0},{"$f":"'Survey Data'!C181","v":0},{"$f":"'Survey Data'!D181","v":0},{"$f":"'Survey Data'!E181","v":0},{"$f":"'Survey Data'!F181","v":0},{"$f":"'Survey Data'!G181","v":0},{"$f":"'Survey Data'!H181","v":0},null,-1,0,-1,91,0,0,0,0,0]
[{"$f":"'Survey Data'!A182","v":164},{"$f":"'Survey Data'!B182","v":0},{"$f":"'Survey Data'!C182","v":0},{"$f":"'Survey Data'!D182","v":0},{"$f":"'Survey Data'!E182","v":0},{"$f":"'Survey Data'!F182","v":0},{"$f":"'Survey Data'!G182","v":0},{"$f":"'Survey Data'!H182","v":0},null,-1,0,-1,91,0,0,0,0,0]
[{"$f":"'Survey Data'!A183","v":165},{"$f":"'Survey Data'!B183","v":0},{"$f":"'Survey Data'!C183","v":0},{"$f":"'Survey Data'!D183","v":0},{"$f":"'Survey Data'!E183","v":0},{"$f":"'Survey Data'!F183","v":0},{"$f":"'Survey Data'!G183","v":0},{"$f":"'Survey Data'!H183","v":0},null,-1,0,-1,91,0,0,0,0,0]
[{"$f":"'Survey Data'!A184","v":166},{"$f":"'Survey Data'!B184","v":0},{"$f":"'Survey Data'!C184","v":0},{"$f":"'Survey Data'!D184","v":0},{"$f":"'Survey Data'!E184","v":0},{"$f":"'Survey Data'!F184","v":0},{"$f":"'Survey Data'!G184","v":0},{"$f":"'Survey Data'!H184","v":0},null,-1,0,-1,91,0,0,0,0,0]
[{"$f":"'Survey Data'!A185","v":167},{"$f":"'Survey Data'!B185","v":0},{"$f":"'Survey Data'!C185","v":0},{"$f":"'Survey Data'!D185","v":0},{"$f":"'Survey Data'!E185","v":0},{"$f":"'Survey Data'!F185","v":0},{"$f":"'Survey Data'!G185","v":0},{"$f":"'Survey Data'!H185","v":0},null,-1,0,-1,91,0,0,0,0,0]
[{"$f":"'Survey Data'!A186","v":168},{"$f":"'Survey Data'!B186","v":0},{"$f":"'Survey Data'!C186","v":0},{"$f":"'Survey Data'!D186","v":0},{"$f":"'Survey Data'!E186","v":0},{"$f":"'Survey Data'!F186","v":0},{"$f":"'Survey Data'!G186","v":0},{"$f":"'Survey Data'!H186","v":0},null,-1,0,-1,91,0,0,0,0,0]
[{"$f":"'Survey Data'!A187","v":169},{"$f":"'Survey Data'!B187","v":0},{"$f":"'Survey Data'!C187","v":0},{"$f":"'Survey Data'!D187","v":0},{"$f":"'Survey Data'!E187","v":0},{"$f":"'Survey Data'!F187","v":0},{"$f":"'Survey Data'!G187","v":0},{"$f":"'Survey Data'!H187","v":0},null,-1,0,-1,91,0,0,0,0,0]
[{"$f":"'Survey Data'!A188","v":170},{"$f":"'Survey Data'!B188","v":0},{"$f":"'Survey Data'!C188","v":0},{"$f":"'Survey Data'!D188","v":0},{"$f":"'Survey Data'!E188","v":0},{"$f":"'Survey Data'!F188","v":0},{"$f":"'Survey Data'!G188","v":0},{"$f":"'Survey Data'!H188","v":0},null,-1,0,-1,91,0,0,0,0,0]
[{"$f":"'Survey Data'!A189","v":171},{"$f":"'Survey Data'!B189","v":0},{"$f":"'Survey Data'!C189","v":0},{"$f":"'Survey Data'!D189","v":0},{"$f":"'Survey Data'!E189","v":0},{"$f":"'Survey Data'!F189","v":0},{"$f":"'Survey Data'!G189","v":0},{"$f":"'Survey Data'!H189","v":0},null,-1,0,-1,91,0,0,0,0,0]
[{"$f":"'Survey Data'!A190","v":172},{"$f":"'Survey Data'!B190","v":0},{"$f":"'Survey Data'!C190","v":0},{"$f":"'Survey Data'!D190","v":0},{"$f":"'Survey Data'!E190","v":0},{"$f":"'Survey Data'!F190","v":0},{"$f":"'Survey Data'!G190","v":0},{"$f":"'Survey Data'!H190","v":0},null,-1,0,-1,91,0,0,0,0,0]
[{"$f":"'Survey Data'!A191","v":173},{"$f":"'Survey Data'!B191","v":0},{"$f":"'Survey Data'!C191","v":0},{"$f":"'Survey Data'!D191","v":0},{"$f":"'Survey Data'!E191","v":0},{"$f":"'Survey Data'!F191","v":0},{"$f":"'Survey Data'!G191","v":0},{"$f":"'Survey Data'!H191","v":0},null,-1,0,-1,91,0,0,0,0,0]
[{"$f":"'Survey Data'!A192","v":174},{"$f":"'Survey Data'!B192","v":0},{"$f":"'Survey Data'!C192","v":0},{"$f":"'Survey Data'!D192","v":0},{"$f":"'Survey Data'!E192","v":0},{"$f":"'Survey Data'!F192","v":0},{"$f":"'Survey Data'!G192","v":0},{"$f":"'Survey Data'!H192","v":0},null,-1,0,-1,91,0,0,0,0,0]
[{"$f":"'Survey Data'!A193","v":175},{"$f":"'Survey Data'!B193","v":0},{"$f":"'Survey Data'!C193","v":0},{"$f":"'Survey Data'!D193","v":0},{"$f":"'Survey Data'!E193","v":0},{"$f":"'Survey Data'!F193","v":0},{"$f":"'Survey Data'!G193","v":0},{"$f":"'Survey Data'!H193","v":0},null,-1,0,-1,91,0,0,0,0,0]
[{"$f":"'Survey Data'!A194","v":176},{"$f":"'Survey Data'!B194","v":0},{"$f":"'Survey Data'!C194","v":0},{"$f":"'Survey Data'!D194","v":0},{"$f":"'Survey Data'!E194","v":0},{"$f":"'Survey Data'!F194","v":0},{"$f":"'Survey Data'!G194","v":0},{"$f":"'Survey Data'!H194","v":0},null,-1,0,-1,91,0,0,0,0,0]
[{"$f":"'Survey Data'!A195","v":177},{"$f":"'Survey Data'!B195","v":0},{"$f":"'Survey Data'!C195","v":0},{"$f":"'Survey Data'!D195","v":0},{"$f":"'Survey Data'!E195","v":0},{"$f":"'Survey Data'!F195","v":0},{"$f":"'Survey Data'!G195","v":0},{"$f":"'Survey Data'!H195","v":0},null,-1,0,-1,91,0,0,0,0,0]
[{"$f":"'Survey Data'!A196","v":178},{"$f":"'Survey Data'!B196","v":0},{"$f":"'Survey Data'!C196","v":0},{"$f":"'Survey Data'!D196","v":0},{"$f":"'Survey Data'!E196","v":0},{"$f":"'Survey Data'!F196","v":0},{"$f":"'Survey Data'!G196","v":0},{"$f":"'Survey Data'!H196","v":0},null,-1,0,-1,91,0,0,0,0,0]
[{"$f":"'Survey Data'!A197","v":179},{"$f":"'Survey Data'!B197","v":0},{"$f":"'Survey Data'!C197","v":0},{"$f":"'Survey Data'!D197","v":0},{"$f":"'Survey Data'!E197","v":0},{"$f":"'Survey Data'!F197","v":0},{"$f":"'Survey Data'!G197","v":0},{"$f":"'Survey Data'!H197","v":0},null,-1,0,-1,91,0,0,0,0,0]
[{"$f":"'Survey Data'!A198","v":180},{"$f":"'Survey Data'!B198","v":0},{"$f":"'Survey Data'!C198","v":0},{"$f":"'Survey Data'!D198","v":0},{"$f":"'Survey Data'!E198","v":0},{"$f":"'Survey Data'!F198","v":0},{"$f":"'Survey Data'!G198","v":0},{"$f":"'Survey Data'!H198","v":0},null,-1,0,-1,91,0,0,0,0,0]
[{"$f":"'Survey Data'!A199","v":181},{"$f":"'Survey Data'!B199","v":0},{"$f":"'Survey Data'!C199","v":0},{"$f":"'Survey Data'!D199","v":0},{"$f":"'Survey Data'!E199","v":0},{"$f":"'Survey Data'!F199","v":0},{"$f":"'Survey Data'!G199","v":0},{"$f":"'Survey Data'!H199","v":0},null,-1,0,-1,91,0,0,0,0,0]
[{"$f":"'Survey Data'!A200","v":182},{"$f":"'Survey Data'!B200","v":0},{"$f":"'Survey Data'!C200","v":0},{"$f":"'Survey Data'!D200","v":0},{"$f":"'Survey Data'!E200","v":0},{"$f":"'Survey Data'!F200","v":0},{"$f":"'Survey Data'!G200","v":0},{"$f":"'Survey Data'!H200","v":0},null,-1,0,-1,91,0,0,0,0,0]
[{"$f":"'Survey Data'!A201","v":183},{"$f":"'Survey Data'!B201","v":0},{"$f":"'Survey Data'!C201","v":0},{"$f":"'Survey Data'!D201","v":0},{"$f":"'Survey Data'!E201","v":0},{"$f":"'Survey Data'!F201","v":0},{"$f":"'Survey Data'!G201","v":0},{"$f":"'Survey Data'!H201","v":0},null,-1,0,-1,91,0,0,0,0,0]
[{"$f":"'Survey Data'!A202","v":184},{"$f":"'Survey Data'!B202","v":0},{"$f":"'Survey Data'!C202","v":0},{"$f":"'Survey Data'!D202","v":0},{"$f":"'Survey Data'!E202","v":0},{"$f":"'Survey Data'!F202","v":0},{"$f":"'Survey Data'!G202","v":0},{"$f":"'Survey Data'!H202","v":0},null,-1,0,-1,91,0,0,0,0,0]
[{"$f":"'Survey Data'!A203","v":185},{"$f":"'Survey Data'!B203","v":0},{"$f":"'Survey Data'!C203","v":0},{"$f":"'Survey Data'!D203","v":0},{"$f":"'Survey Data'!E203","v":0},{"$f":"'Survey Data'!F203","v":0},{"$f":"'Survey Data'!G203","v":0},{"$f":"'Survey Data'!H203","v":0},null,-1,0,-1,91,0,0,0,0,0]
[{"$f":"'Survey Data'!A204","v":186},{"$f":"'Survey Data'!B204","v":0},{"$f":"'Survey Data'!C204","v":0},{"$f":"'Survey Data'!D204","v":0},{"$f":"'Survey Data'!E204","v":0},{"$f":"'Survey Data'!F204","v":0},{"$f":"'Survey Data'!G204","v":0},{"$f":"'Survey Data'!H204","v":0},null,-1,0,-1,91,0,0,0,0,0]
[{"$f":"'Survey Data'!A205","v":187},{"$f":"'Survey Data'!B205","v":0},{"$f":"'Survey Data'!C205","v":0},{"$f":"'Survey Data'!D205","v":0},{"$f":"'Survey Data'!E205","v":0},{"$f":"'Survey Data'!F205","v":0},{"$f":"'Survey Data'!G205","v":0},{"$f":"'Survey Data'!H205","v":0},null,-1,0,-1,91,0,0,0,0,0]
[{"$f":"'Survey Data'!A206","v":188},{"$f":"'Survey Data'!B206","v":0},{"$f":"'Survey Data'!C206","v":0},{"$f":"'Survey Data'!D206","v":0},{"$f":"'Survey Data'!E206","v":0},{"$f":"'Survey Data'!F206","v":0},{"$f":"'Survey Data'!G206","v":0},{"$f":"'Survey Data'!H206","v":0},null,-1,0,-1,91,0,0,0,0,0]
[{"$f":"'Survey Data'!A207","v":189},{"$f":"'Survey Data'!B207","v":0},{"$f":"'Survey Data'!C207","v":0},{"$f":"'Survey Data'!D207","v":0},{"$f":"'Survey Data'!E207","v":0},{"$f":"'Survey Data'!F207","v":0},{"$f":"'Survey Data'!G207","v":0},{"$f":"'Survey Data'!H207","v":0},null,-1,0,-1,91,0,0,0,0,0]
[{"$f":"'Survey Data'!A208","v":190},{"$f":"'Survey Data'!B208","v":0},{"$f":"'Survey Data'!C208","v":0},{"$f":"'Survey Data'!D208","v":0},{"$f":"'Survey Data'!E208","v":0},{"$f":"'Survey Data'!F208","v":0},{"$f":"'Survey Data'!G208","v":0},{"$f":"'Survey Data'!H208","v":0},null,-1,0,-1,91,0,0,0,0,0]
[{"$f":"'Survey Data'!A209","v":191},{"$f":"'Survey Data'!B209","v":0},{"$f":"'Survey Data'!C209","v":0},{"$f":"'Survey Data'!D209","v":0},{"$f":"'Survey Data'!E209","v":0},{"$f":"'Survey Data'!F209","v":0},{"$f":"'Survey Data'!G209","v":0},{"$f":"'Survey Data'!H209","v":0},null,-1,0,-1,91,0,0,0,0,0]
[{"$f":"'Survey Data'!A210","v":192},{"$f":"'Survey Data'!B210","v":0},{"$f":"'Survey Data'!C210","v":0},{"$f":"'Survey Data'!D210","v":0},{"$f":"'Survey Data'!E210","v":0},{"$f":"'Survey Data'!F210","v":0},{"$f":"'Survey Data'!G210","v":0},{"$f":"'Survey Data'!H210","v":0},null,-1,0,-1,91,0,0,0,0,0]
[{"$f":"'Survey Data'!A211","v":193},{"$f":"'Survey Data'!B211","v":0},{"$f":"'Survey Data'!C211","v":0},{"$f":"'Survey Data'!D211","v":0},{"$f":"'Survey Data'!E211","v":0},{"$f":"'Survey Data'!F211","v":0},{"$f":"'Survey Data'!G211","v":0},{"$f":"'Survey Data'!H211","v":0},null,-1,0,-1,91,0,0,0,0,0]
[{"$f":"'Survey Data'!A212","v":194},{"$f":"'Survey Data'!B212","v":0},{"$f":"'Survey Data'!C212","v":0},{"$f":"'Survey Data'!D212","v":0},{"$f":"'Survey Data'!E212","v":0},{"$f":"'Survey Data'!F212","v":0},{"$f":"'Survey Data'!G212","v":0},{"$f":"'Survey Data'!H212","v":0},null,{"$f":"SurveyBearing2Angle(B197,C197,D197)","v":-1},{"$f":"$K$3","v":0},{"$f":"J197+K197","v":-1},{"$f":"MOD(450-L197,360)","v":91},{"$f":"(E197*4*16.5)+(F197*16.5)+(G197*16.5/25)","v":0},{"$f":"COS(RADIANS(M197))*N197","v":0},{"$f":"SIN(RADIANS(M197))*N197","v":0},{"$f":"Q196+O197","v":0},{"$f":"R196+P197","v":0}]
[{"$f":"'Survey Data'!A213","v":195},{"$f":"'Survey Data'!B213","v":0},{"$f":"'Survey Data'!C213","v":0},{"$f":"'Survey Data'!D213","v":0},{"$f":"'Survey Data'!E213","v":0},{"$f":"'Survey Data'!F213","v":0},{"$f":"'Survey Data'!G213","v":0},{"$f":"'Survey Data'!H213","v":0},null,-1,0,-1,91,0,0,0,0,0]
[{"$f":"'Survey Data'!A214","v":196},{"$f":"'Survey Data'!B214","v":0},{"$f":"'Survey Data'!C214","v":0},{"$f":"'Survey Data'!D214","v":0},{"$f":"'Survey Data'!E214","v":0},{"$f":"'Survey Data'!F214","v":0},{"$f":"'Survey Data'!G214","v":0},{"$f":"'Survey Data'!H214","v":0},null,-1,0,-1,91,0,0,0,0,0]
[{"$f":"'Survey Data'!A215","v":197},{"$f":"'Survey Data'!B215","v":0},{"$f":"'Survey Data'!C215","v":0},{"$f":"'Survey Data'!D215","v":0},{"$f":"'Survey Data'!E215","v":0},{"$f":"'Survey Data'!F215","v":0},{"$f":"'Survey Data'!G215","v":0},{"$f":"'Survey Data'!H215","v":0},null,-1,0,-1,91,0,0,0,0,0]
[{"$f":"'Survey Data'!A216","v":198},{"$f":"'Survey Data'!B216","v":0},{"$f":"'Survey Data'!C216","v":0},{"$f":"'Survey Data'!D216","v":0},{"$f":"'Survey Data'!E216","v":0},{"$f":"'Survey Data'!F216","v":0},{"$f":"'Survey Data'!G216","v":0},{"$f":"'Survey Data'!H216","v":0},null,-1,0,-1,91,0,0,0,0,0]
[{"$f":"'Survey Data'!A217","v":199},{"$f":"'Survey Data'!B217","v":0},{"$f":"'Survey Data'!C217","v":0},{"$f":"'Survey Data'!D217","v":0},{"$f":"'Survey Data'!E217","v":0},{"$f":"'Survey Data'!F217","v":0},{"$f":"'Survey Data'!G217","v":0},{"$f":"'Survey Data'!H217","v":0},null,-1,0,-1,91,0,0,0,0,0]
[{"$f":"'Survey Data'!A218","v":200},{"$f":"'Survey Data'!B218","v":0},{"$f":"'Survey Data'!C218","v":0},{"$f":"'Survey Data'!D218","v":0},{"$f":"'Survey Data'!E218","v":0},{"$f":"'Survey Data'!F218","v":0},{"$f":"'Survey Data'!G218","v":0},{"$f":"'Survey Data'!H218","v":0},null,-1,0,-1,91,0,0,0,0,0]
[null,null,null,null,null,null,null,null,null,null,null,null,null,null,null,"Minimum",{"$f":"MIN(Q4:Q202)","v":0},{"$f":"MIN(R4:R202)","v":0}]
[null,null,null,null,null,null,null,null,null,null,null,null,null,null,null,"Maximum",{"$f":"MAX(Q4:Q202)","v":0},{"$f":"MAX(R4:R202)","v":0}]
[null,null,null,null,null,null,null,null,null,null,null,null,null,null,null,"Range",{"$f":"ABS(Q205-Q204)","v":0},{"$f":"ABS(R205-R204)","v":0}]
[null,null,null,null,null,null,null,null,null,null,null,null,null,null,null,"Span",{"$f":"MAX(Q206:R206)","v":0}]
[null,null,null,null,null,null,null,null,null,null,null,null,null,null,null,"Rounded Span",{"$f":"CEILING(LOG(Q207,10),1)","v":{"$error":"#NUM!"}}]
[null,null,null,null,null,null,null,null,null,null,null,null,null,null,null,null,{"$f":"10^Q208","v":{"$error":"#NUM!"}}]

{"sheet":"Calculate ArcMap","index":3,"n_rows":34,"n_cols":12,"rows_kept":34,"cut":false,"hidden":false,"merged":[[0,0,0,7],[0,11,0,12]]}
["Calculations"]
[]
["Point ID","NS","angle","EW","bearing+dec","new-angle","quadrant","survey","survey-edit","Dist-ft","Dist-m","Dist-m"]
[]
[{"$f":"'Survey Data'!A19","v":1},{"$f":"'Survey Data'!B19","v":0},{"$f":"'Survey Data'!C19","v":0},{"$f":"'Survey Data'!D19","v":0},{"$f":"'Mapping Data'!L4","v":-1},{"$f":"IF((E5>=0)*AND(E5<=90),E5,IF((E5>=90)*AND(E5<=180),180-E5,IF((E5>=180)*AND(E5<=270),E5-180,IF((E5>=270)*AND(E5<=360),360-E5,IF(E5<0,E5*-1,-99)))))","v":1},{"$f":"IF((E5>=0)*AND(E5<=90),\"ne\",IF((E5>=90)*AND(E5<=180),\"se\",IF((E5>=180)*AND(E5<=270),\"sw\",IF((E5>=270)*AND(E5<=360),\"nw\",IF(E5<0,\"nw\",-99)))))","v":"nw"},{"$f":"CONCATENATE(MID(G5,1,1),F5,\"-00-00\",MID(G5,2,1))","v":"n1-00-00w"},{"$f":"IF(FIND(\"-\",H5,2)=3,REPLACE(H5,1,1,CONCATENATE(B5,\"0\")),H5)","v":"001-00-00w"},{"$f":"VALUE('Mapping Data'!N4)","v":0},{"$f":"J5*0.3048","v":0},{"$f":"TRUNC(K5,1)","v":0}]
[{"$f":"'Survey Data'!A20","v":2},{"$f":"'Survey Data'!B20","v":0},{"$f":"'Survey Data'!C20","v":0},{"$f":"'Survey Data'!D20","v":0},{"$f":"'Mapping Data'!L5","v":-1},1,{"$f":"IF((E6>=0)*AND(E6<=90),\"ne\",IF((E6>=90)*AND(E6<=180),\"se\",IF((E6>=180)*AND(E6<=270),\"sw\",IF((E6>=270)*AND(E6<=360),\"nw\",IF(E6<0,\"nw\",-99)))))","v":"nw"},{"$f":"CONCATENATE(MID(G6,1,1),F6,\"-00-00\",MID(G6,2,1))","v":"n1-00-00w"},{"$f":"IF(FIND(\"-\",H6,2)=3,REPLACE(H6,1,1,CONCATENATE(B6,\"0\")),H6)","v":"001-00-00w"},{"$f":"VALUE('Mapping Data'!N5)","v":0},0,0]
[{"$f":"'Survey Data'!A21","v":3},{"$f":"'Survey Data'!B21","v":0},{"$f":"'Survey Data'!C21","v":0},{"$f":"'Survey Data'!D21","v":0},{"$f":"'Mapping Data'!L6","v":-1},1,"nw","n1-00-00w","001-00-00w",{"$f":"VALUE('Mapping Data'!N6)","v":0},0,0]
[{"$f":"'Survey Data'!A22","v":4},{"$f":"'Survey Data'!B22","v":0},{"$f":"'Survey Data'!C22","v":0},{"$f":"'Survey Data'!D22","v":0},{"$f":"'Mapping Data'!L7","v":-1},1,"nw","n1-00-00w","001-00-00w",{"$f":"VALUE('Mapping Data'!N7)","v":0},0,0]
[{"$f":"'Survey Data'!A23","v":5},{"$f":"'Survey Data'!B23","v":0},{"$f":"'Survey Data'!C23","v":0},{"$f":"'Survey Data'!D23","v":0},{"$f":"'Mapping Data'!L8","v":-1},1,"nw","n1-00-00w","001-00-00w",{"$f":"VALUE('Mapping Data'!N8)","v":0},0,0]
[{"$f":"'Survey Data'!A24","v":6},{"$f":"'Survey Data'!B24","v":0},{"$f":"'Survey Data'!C24","v":0},{"$f":"'Survey Data'!D24","v":0},{"$f":"'Mapping Data'!L9","v":-1},1,"nw","n1-00-00w","001-00-00w",{"$f":"VALUE('Mapping Data'!N9)","v":0},0,0]
[{"$f":"'Survey Data'!A25","v":7},{"$f":"'Survey Data'!B25","v":0},{"$f":"'Survey Data'!C25","v":0},{"$f":"'Survey Data'!D25","v":0},{"$f":"'Mapping Data'!L10","v":-1},1,"nw","n1-00-00w","001-00-00w",{"$f":"VALUE('Mapping Data'!N10)","v":0},0,0]
[{"$f":"'Survey Data'!A26","v":8},{"$f":"'Survey Data'!B26","v":0},{"$f":"'Survey Data'!C26","v":0},{"$f":"'Survey Data'!D26","v":0},{"$f":"'Mapping Data'!L11","v":-1},{"$f":"IF((E12>=0)*AND(E12<=90),E12,IF((E12>=90)*AND(E12<=180),180-E12,IF((E12>=180)*AND(E12<=270),E12-180,IF((E12>=270)*AND(E12<=360),360-E12,IF(E12<0,E12*-1,-99)))))","v":1},{"$f":"IF((E12>=0)*AND(E12<=90),\"ne\",IF((E12>=90)*AND(E12<=180),\"se\",IF((E12>=180)*AND(E12<=270),\"sw\",IF((E12>=270)*AND(E12<=360),\"nw\",IF(E12<0,\"nw\",-99)))))","v":"nw"},{"$f":"CONCATENATE(MID(G12,1,1),F12,\"-00-00\",MID(G12,2,1))","v":"n1-00-00w"},{"$f":"IF(FIND(\"-\",H12,2)=3,REPLACE(H12,1,1,CONCATENATE(B12,\"0\")),H12)","v":"001-00-00w"},{"$f":"VALUE('Mapping Data'!N11)","v":0},{"$f":"J12*0.3048","v":0},{"$f":"TRUNC(K12,1)","v":0}]
[{"$f":"'Survey Data'!A27","v":9},{"$f":"'Survey Data'!B27","v":0},{"$f":"'Survey Data'!C27","v":0},{"$f":"'Survey Data'!D27","v":0},{"$f":"'Mapping Data'!L12","v":-1},1,"nw","n1-00-00w","001-00-00w",{"$f":"VALUE('Mapping Data'!N12)","v":0},0,0]
[{"$f":"'Survey Data'!A28","v":10},{"$f":"'Survey Data'!B28","v":0},{"$f":"'Survey Data'!C28","v":0},{"$f":"'Survey Data'!D28","v":0},{"$f":"'Mapping Data'!L13","v":-1},1,"nw","n1-00-00w","001-00-00w",{"$f":"VALUE('Mapping Data'!N13)","v":0},0,0]
[{"$f":"'Survey Data'!A29","v":11},{"$f":"'Survey Data'!B29","v":0},{"$f":"'Survey Data'!C29","v":0},{"$f":"'Survey Data'!D29","v":0},{"$f":"'Mapping Data'!L14","v":-1},1,"nw","n1-00-00w","001-00-00w",{"$f":"VALUE('Mapping Data'!N14)","v":0},0,0]
[{"$f":"'Survey Data'!A30","v":12},{"$f":"'Survey Data'!B30","v":0},{"$f":"'Survey Data'!C30","v":0},{"$f":"'Survey Data'!D30","v":0},{"$f":"'Mapping Data'!L15","v":-1},1,"nw","n1-00-00w","001-00-00w",{"$f":"VALUE('Mapping Data'!N15)","v":0},0,0]
[{"$f":"'Survey Data'!A31","v":13},{"$f":"'Survey Data'!B31","v":0},{"$f":"'Survey Data'!C31","v":0},{"$f":"'Survey Data'!D31","v":0},{"$f":"'Mapping Data'!L16","v":-1},1,"nw","n1-00-00w","001-00-00w",{"$f":"VALUE('Mapping Data'!N16)","v":0},0,0]
[{"$f":"'Survey Data'!A32","v":14},{"$f":"'Survey Data'!B32","v":0},{"$f":"'Survey Data'!C32","v":0},{"$f":"'Survey Data'!D32","v":0},{"$f":"'Mapping Data'!L17","v":-1},1,"nw","n1-00-00w","001-00-00w",{"$f":"VALUE('Mapping Data'!N17)","v":0},0,0]
[{"$f":"'Survey Data'!A33","v":15},{"$f":"'Survey Data'!B33","v":0},{"$f":"'Survey Data'!C33","v":0},{"$f":"'Survey Data'!D33","v":0},{"$f":"'Mapping Data'!L18","v":-1},1,"nw","n1-00-00w","001-00-00w",{"$f":"VALUE('Mapping Data'!N18)","v":0},0,0]
[{"$f":"'Survey Data'!A34","v":16},{"$f":"'Survey Data'!B34","v":0},{"$f":"'Survey Data'!C34","v":0},{"$f":"'Survey Data'!D34","v":0},{"$f":"'Mapping Data'!L19","v":-1},1,"nw","n1-00-00w","001-00-00w",{"$f":"VALUE('Mapping Data'!N19)","v":0},0,0]
[{"$f":"'Survey Data'!A35","v":17},{"$f":"'Survey Data'!B35","v":0},{"$f":"'Survey Data'!C35","v":0},{"$f":"'Survey Data'!D35","v":0},{"$f":"'Mapping Data'!L20","v":-1},1,"nw","n1-00-00w","001-00-00w",{"$f":"VALUE('Mapping Data'!N20)","v":0},0,0]
[{"$f":"'Survey Data'!A36","v":18},{"$f":"'Survey Data'!B36","v":0},{"$f":"'Survey Data'!C36","v":0},{"$f":"'Survey Data'!D36","v":0},{"$f":"'Mapping Data'!L21","v":-1},1,"nw","n1-00-00w","001-00-00w",{"$f":"VALUE('Mapping Data'!N21)","v":0},0,0]
[{"$f":"'Survey Data'!A37","v":19},{"$f":"'Survey Data'!B37","v":0},{"$f":"'Survey Data'!C37","v":0},{"$f":"'Survey Data'!D37","v":0},{"$f":"'Mapping Data'!L22","v":-1},1,"nw","n1-00-00w","001-00-00w",{"$f":"VALUE('Mapping Data'!N22)","v":0},0,0]
[{"$f":"'Survey Data'!A38","v":20},{"$f":"'Survey Data'!B38","v":0},{"$f":"'Survey Data'!C38","v":0},{"$f":"'Survey Data'!D38","v":0},{"$f":"'Mapping Data'!L23","v":-1},1,"nw","n1-00-00w","001-00-00w",{"$f":"VALUE('Mapping Data'!N23)","v":0},0,0]
[{"$f":"'Survey Data'!A39","v":21},{"$f":"'Survey Data'!B39","v":0},{"$f":"'Survey Data'!C39","v":0},{"$f":"'Survey Data'!D39","v":0},{"$f":"'Mapping Data'!L24","v":-1},1,"nw","n1-00-00w","001-00-00w",{"$f":"VALUE('Mapping Data'!N24)","v":0},0,0]
[{"$f":"'Survey Data'!A40","v":22},{"$f":"'Survey Data'!B40","v":0},{"$f":"'Survey Data'!C40","v":0},{"$f":"'Survey Data'!D40","v":0},{"$f":"'Mapping Data'!L25","v":-1},1,"nw","n1-00-00w","001-00-00w",{"$f":"VALUE('Mapping Data'!N25)","v":0},0,0]
[{"$f":"'Survey Data'!A41","v":23},{"$f":"'Survey Data'!B41","v":0},{"$f":"'Survey Data'!C41","v":0},{"$f":"'Survey Data'!D41","v":0},{"$f":"'Mapping Data'!L26","v":-1},1,"nw","n1-00-00w","001-00-00w",{"$f":"VALUE('Mapping Data'!N26)","v":0},0,0]
[{"$f":"'Survey Data'!A42","v":24},{"$f":"'Survey Data'!B42","v":0},{"$f":"'Survey Data'!C42","v":0},{"$f":"'Survey Data'!D42","v":0},{"$f":"'Mapping Data'!L27","v":-1},1,"nw","n1-00-00w","001-00-00w",{"$f":"VALUE('Mapping Data'!N27)","v":0},0,0]
[{"$f":"'Survey Data'!A43","v":25},{"$f":"'Survey Data'!B43","v":0},{"$f":"'Survey Data'!C43","v":0},{"$f":"'Survey Data'!D43","v":0},{"$f":"'Mapping Data'!L28","v":-1},1,"nw","n1-00-00w","001-00-00w",{"$f":"VALUE('Mapping Data'!N28)","v":0},0,0]
[{"$f":"'Survey Data'!A44","v":26},{"$f":"'Survey Data'!B44","v":0},{"$f":"'Survey Data'!C44","v":0},{"$f":"'Survey Data'!D44","v":0},{"$f":"'Mapping Data'!L29","v":-1},1,"nw","n1-00-00w","001-00-00w",{"$f":"VALUE('Mapping Data'!N29)","v":0},0,0]
[{"$f":"'Survey Data'!A45","v":27},{"$f":"'Survey Data'!B45","v":0},{"$f":"'Survey Data'!C45","v":0},{"$f":"'Survey Data'!D45","v":0},{"$f":"'Mapping Data'!L30","v":-1},1,"nw","n1-00-00w","001-00-00w",{"$f":"VALUE('Mapping Data'!N30)","v":0},0,0]
[{"$f":"'Survey Data'!A46","v":28},{"$f":"'Survey Data'!B46","v":0},{"$f":"'Survey Data'!C46","v":0},{"$f":"'Survey Data'!D46","v":0},{"$f":"'Mapping Data'!L31","v":-1},1,"nw","n1-00-00w","001-00-00w",{"$f":"VALUE('Mapping Data'!N31)","v":0},0,0]
[{"$f":"'Survey Data'!A47","v":29},{"$f":"'Survey Data'!B47","v":0},{"$f":"'Survey Data'!C47","v":0},{"$f":"'Survey Data'!D47","v":0},{"$f":"'Mapping Data'!L32","v":-1},1,"nw","n1-00-00w","001-00-00w",{"$f":"VALUE('Mapping Data'!N32)","v":0},0,0]
[{"$f":"'Survey Data'!A48","v":30},{"$f":"'Survey Data'!B48","v":0},{"$f":"'Survey Data'!C48","v":0},{"$f":"'Survey Data'!D48","v":0},{"$f":"'Mapping Data'!L33","v":-1},1,"nw","n1-00-00w","001-00-00w",{"$f":"VALUE('Mapping Data'!N33)","v":0},0,0]

{"sheet":"Export","index":4,"n_rows":31,"n_cols":3,"rows_kept":31,"cut":false,"hidden":false,"merged":[]}
["Point ID","survey-edit","Dist-m"]
[{"$f":"'Calculate ArcMap'!A5","v":1},{"$f":"'Calculate ArcMap'!I5","v":"001-00-00w"},{"$f":"'Calculate ArcMap'!K5","v":0}]
[{"$f":"'Calculate ArcMap'!A6","v":2},{"$f":"'Calculate ArcMap'!I6","v":"001-00-00w"},{"$f":"'Calculate ArcMap'!K6","v":0}]
[{"$f":"'Calculate ArcMap'!A7","v":3},{"$f":"'Calculate ArcMap'!I7","v":"001-00-00w"},{"$f":"'Calculate ArcMap'!K7","v":0}]
[{"$f":"'Calculate ArcMap'!A8","v":4},{"$f":"'Calculate ArcMap'!I8","v":"001-00-00w"},{"$f":"'Calculate ArcMap'!K8","v":0}]
[{"$f":"'Calculate ArcMap'!A9","v":5},{"$f":"'Calculate ArcMap'!I9","v":"001-00-00w"},{"$f":"'Calculate ArcMap'!K9","v":0}]
[{"$f":"'Calculate ArcMap'!A10","v":6},{"$f":"'Calculate ArcMap'!I10","v":"001-00-00w"},{"$f":"'Calculate ArcMap'!K10","v":0}]
[{"$f":"'Calculate ArcMap'!A11","v":7},{"$f":"'Calculate ArcMap'!I11","v":"001-00-00w"},{"$f":"'Calculate ArcMap'!K11","v":0}]
[{"$f":"'Calculate ArcMap'!A12","v":8},{"$f":"'Calculate ArcMap'!I12","v":"001-00-00w"},{"$f":"'Calculate ArcMap'!K12","v":0}]
[{"$f":"'Calculate ArcMap'!A13","v":9},{"$f":"'Calculate ArcMap'!I13","v":"001-00-00w"},{"$f":"'Calculate ArcMap'!K13","v":0}]
[{"$f":"'Calculate ArcMap'!A14","v":10},{"$f":"'Calculate ArcMap'!I14","v":"001-00-00w"},{"$f":"'Calculate ArcMap'!K14","v":0}]
[{"$f":"'Calculate ArcMap'!A15","v":11},{"$f":"'Calculate ArcMap'!I15","v":"001-00-00w"},{"$f":"'Calculate ArcMap'!K15","v":0}]
[{"$f":"'Calculate ArcMap'!A16","v":12},{"$f":"'Calculate ArcMap'!I16","v":"001-00-00w"},{"$f":"'Calculate ArcMap'!K16","v":0}]
[{"$f":"'Calculate ArcMap'!A17","v":13},{"$f":"'Calculate ArcMap'!I17","v":"001-00-00w"},{"$f":"'Calculate ArcMap'!K17","v":0}]
[{"$f":"'Calculate ArcMap'!A18","v":14},{"$f":"'Calculate ArcMap'!I18","v":"001-00-00w"},{"$f":"'Calculate ArcMap'!K18","v":0}]
[{"$f":"'Calculate ArcMap'!A19","v":15},{"$f":"'Calculate ArcMap'!I19","v":"001-00-00w"},{"$f":"'Calculate ArcMap'!K19","v":0}]
[{"$f":"'Calculate ArcMap'!A20","v":16},{"$f":"'Calculate ArcMap'!I20","v":"001-00-00w"},{"$f":"'Calculate ArcMap'!K20","v":0}]
[{"$f":"'Calculate ArcMap'!A21","v":17},{"$f":"'Calculate ArcMap'!I21","v":"001-00-00w"},{"$f":"'Calculate ArcMap'!K21","v":0}]
[{"$f":"'Calculate ArcMap'!A22","v":18},{"$f":"'Calculate ArcMap'!I22","v":"001-00-00w"},{"$f":"'Calculate ArcMap'!K22","v":0}]
[{"$f":"'Calculate ArcMap'!A23","v":19},{"$f":"'Calculate ArcMap'!I23","v":"001-00-00w"},{"$f":"'Calculate ArcMap'!K23","v":0}]
[{"$f":"'Calculate ArcMap'!A24","v":20},{"$f":"'Calculate ArcMap'!I24","v":"001-00-00w"},{"$f":"'Calculate ArcMap'!K24","v":0}]
[{"$f":"'Calculate ArcMap'!A25","v":21},{"$f":"'Calculate ArcMap'!I25","v":"001-00-00w"},{"$f":"'Calculate ArcMap'!K25","v":0}]
[{"$f":"'Calculate ArcMap'!A26","v":22},{"$f":"'Calculate ArcMap'!I26","v":"001-00-00w"},{"$f":"'Calculate ArcMap'!K26","v":0}]
[{"$f":"'Calculate ArcMap'!A27","v":23},{"$f":"'Calculate ArcMap'!I27","v":"001-00-00w"},{"$f":"'Calculate ArcMap'!K27","v":0}]
[{"$f":"'Calculate ArcMap'!A28","v":24},{"$f":"'Calculate ArcMap'!I28","v":"001-00-00w"},{"$f":"'Calculate ArcMap'!K28","v":0}]
[{"$f":"'Calculate ArcMap'!A29","v":25},{"$f":"'Calculate ArcMap'!I29","v":"001-00-00w"},{"$f":"'Calculate ArcMap'!K29","v":0}]
[{"$f":"'Calculate ArcMap'!A30","v":26},{"$f":"'Calculate ArcMap'!I30","v":"001-00-00w"},{"$f":"'Calculate ArcMap'!K30","v":0}]
[{"$f":"'Calculate ArcMap'!A31","v":27},{"$f":"'Calculate ArcMap'!I31","v":"001-00-00w"},{"$f":"'Calculate ArcMap'!K31","v":0}]
[{"$f":"'Calculate ArcMap'!A32","v":28},{"$f":"'Calculate ArcMap'!I32","v":"001-00-00w"},{"$f":"'Calculate ArcMap'!K32","v":0}]
[{"$f":"'Calculate ArcMap'!A33","v":29},{"$f":"'Calculate ArcMap'!I33","v":"001-00-00w"},{"$f":"'Calculate ArcMap'!K33","v":0}]
[{"$f":"'Calculate ArcMap'!A34","v":30},{"$f":"'Calculate ArcMap'!I34","v":"001-00-00w"},{"$f":"'Calculate ArcMap'!K34","v":0}]